BEGIN:VCALENDAR
VERSION:2.0
PRODID:-//achurchnearyou.com//eventfeed//EN
CALSCALE:GREGORIAN
METHOD:PUBLISH
X-WR-TIMEZONE:UTC
BEGIN:VEVENT
SUMMARY:Maunday Thursday
DTSTART:20250417T173000Z
DTEND:20250417T183000Z
DTSTAMP:20260425T010709Z
UID:11907372025-04-17 17:30:00+00:00achurchnearyou
CATEGORIES:
DESCRIPTION:Commemoration of the Last Supper & Stripping of the Altar
GEO:-0.799197;54.13524
LOCATION:St Michael's\, Malton
URL:https://www.achurchnearyou.com/church/6741/service-and-events/events/1
 190737/
END:VEVENT
END:VCALENDAR
