BEGIN:VCALENDAR
VERSION:2.0
PRODID:-//achurchnearyou.com//eventfeed//EN
CALSCALE:GREGORIAN
METHOD:PUBLISH
X-WR-TIMEZONE:UTC
BEGIN:VEVENT
SUMMARY:Easter Sunday
DTSTART:20250420T083000Z
DTEND:20250420T093000Z
DTSTAMP:20260424T235230Z
UID:11907412025-04-20 08:30:00+00:00achurchnearyou
CATEGORIES:
DESCRIPTION:Family Communion with activities for children and an Easter Eg
 g Hunt
GEO:-0.799197;54.13524
LOCATION:St Michael's\, Malton
URL:https://www.achurchnearyou.com/church/6741/service-and-events/events/1
 190741/
END:VEVENT
END:VCALENDAR
