BEGIN:VCALENDAR
VERSION:2.0
PRODID:-//achurchnearyou.com//eventfeed//EN
CALSCALE:GREGORIAN
METHOD:PUBLISH
X-WR-TIMEZONE:UTC
BEGIN:VEVENT
SUMMARY:Ash Wednesday Service
DTSTART:20250305T190000Z
DTEND:20250305T200000Z
DTSTAMP:20260419T140752Z
UID:11641372025-03-05 19:00:00+00:00achurchnearyou
CATEGORIES:
DESCRIPTION:All Welcome
GEO:-1.120119;52.673736
LOCATION:St James the Great\, Birstall
URL:https://www.achurchnearyou.com/church/6752/service-and-events/events/1
 164137/
END:VEVENT
END:VCALENDAR
