BEGIN:VCALENDAR
VERSION:2.0
PRODID:-//achurchnearyou.com//eventfeed//EN
CALSCALE:GREGORIAN
METHOD:PUBLISH
X-WR-TIMEZONE:UTC
BEGIN:VEVENT
SUMMARY:Spring Fayre
DTSTART:20260328T110000Z
DTEND:20260328T140000Z
DTSTAMP:20260423T120520Z
UID:13033142026-03-28 11:00:00+00:00achurchnearyou
CATEGORIES:
DESCRIPTION:Come and join us at our popular annual Spring Fayre. Have a go
  on our chocolate tombola\, try your hand at various games\, share in a bi
 t of light refreshment and remember to bring your Teddy for the Teddy Bear
  Zip Line in the Church.
GEO:0.2806;51.4486
LOCATION:Greenhithe: St Mary
URL:https://www.achurchnearyou.com/church/6761/service-and-events/events/1
 303314/
END:VEVENT
END:VCALENDAR
