BEGIN:VCALENDAR
VERSION:2.0
PRODID:-//achurchnearyou.com//eventfeed//EN
CALSCALE:GREGORIAN
METHOD:PUBLISH
X-WR-TIMEZONE:UTC
BEGIN:VEVENT
SUMMARY:Down Memory Lane
DTSTART;TZID=Europe/London:20231103T150000
DTEND;TZID=Europe/London:20231103T160000
DTSTAMP:20260425T122701Z
UID:9789962023-11-03 15:00:00+00:00achurchnearyou
CATEGORIES:
DESCRIPTION:An informal service with hymns\, a reading\, a talk and prayer
 s\, followed by refreshments.
GEO:0.323088;51.141713
LOCATION:The Upper Church of St. Peter\, Pembury
URL:https://www.achurchnearyou.com/church/6772/service-and-events/events/9
 78996/
END:VEVENT
BEGIN:VEVENT
SUMMARY:Down Memory Lane
DTSTART;TZID=Europe/London:20231201T150000
DTEND;TZID=Europe/London:20231201T160000
DTSTAMP:20260425T122701Z
UID:9789962023-12-01 15:00:00+00:00achurchnearyou
CATEGORIES:
DESCRIPTION:An informal service with hymns\, a reading\, a talk and prayer
 s\, followed by refreshments.
GEO:0.323088;51.141713
LOCATION:The Upper Church of St. Peter\, Pembury
URL:https://www.achurchnearyou.com/church/6772/service-and-events/events/9
 78996/
END:VEVENT
BEGIN:VEVENT
SUMMARY:Down Memory Lane
DTSTART;TZID=Europe/London:20240105T150000
DTEND;TZID=Europe/London:20240105T160000
DTSTAMP:20260425T122701Z
UID:9789962024-01-05 15:00:00+00:00achurchnearyou
CATEGORIES:
DESCRIPTION:An informal service with hymns\, a reading\, a talk and prayer
 s\, followed by refreshments.
GEO:0.323088;51.141713
LOCATION:The Upper Church of St. Peter\, Pembury
URL:https://www.achurchnearyou.com/church/6772/service-and-events/events/9
 78996/
END:VEVENT
BEGIN:VEVENT
SUMMARY:Down Memory Lane
DTSTART;TZID=Europe/London:20240202T150000
DTEND;TZID=Europe/London:20240202T160000
DTSTAMP:20260425T122701Z
UID:9789962024-02-02 15:00:00+00:00achurchnearyou
CATEGORIES:
DESCRIPTION:An informal service with hymns\, a reading\, a talk and prayer
 s\, followed by refreshments.
GEO:0.323088;51.141713
LOCATION:The Upper Church of St. Peter\, Pembury
URL:https://www.achurchnearyou.com/church/6772/service-and-events/events/9
 78996/
END:VEVENT
BEGIN:VEVENT
SUMMARY:Down Memory Lane
DTSTART;TZID=Europe/London:20240301T150000
DTEND;TZID=Europe/London:20240301T160000
DTSTAMP:20260425T122701Z
UID:9789962024-03-01 15:00:00+00:00achurchnearyou
CATEGORIES:
DESCRIPTION:An informal service with hymns\, a reading\, a talk and prayer
 s\, followed by refreshments.
GEO:0.323088;51.141713
LOCATION:The Upper Church of St. Peter\, Pembury
URL:https://www.achurchnearyou.com/church/6772/service-and-events/events/9
 78996/
END:VEVENT
BEGIN:VEVENT
SUMMARY:Down Memory Lane
DTSTART;TZID=Europe/London:20240405T150000
DTEND;TZID=Europe/London:20240405T160000
DTSTAMP:20260425T122701Z
UID:9789962024-04-05 15:00:00+01:00achurchnearyou
CATEGORIES:
DESCRIPTION:An informal service with hymns\, a reading\, a talk and prayer
 s\, followed by refreshments.
GEO:0.323088;51.141713
LOCATION:The Upper Church of St. Peter\, Pembury
URL:https://www.achurchnearyou.com/church/6772/service-and-events/events/9
 78996/
END:VEVENT
BEGIN:VEVENT
SUMMARY:Down Memory Lane
DTSTART;TZID=Europe/London:20240503T150000
DTEND;TZID=Europe/London:20240503T160000
DTSTAMP:20260425T122701Z
UID:9789962024-05-03 15:00:00+01:00achurchnearyou
CATEGORIES:
DESCRIPTION:An informal service with hymns\, a reading\, a talk and prayer
 s\, followed by refreshments.
GEO:0.323088;51.141713
LOCATION:The Upper Church of St. Peter\, Pembury
URL:https://www.achurchnearyou.com/church/6772/service-and-events/events/9
 78996/
END:VEVENT
BEGIN:VEVENT
SUMMARY:Down Memory Lane
DTSTART;TZID=Europe/London:20240607T150000
DTEND;TZID=Europe/London:20240607T160000
DTSTAMP:20260425T122701Z
UID:9789962024-06-07 15:00:00+01:00achurchnearyou
CATEGORIES:
DESCRIPTION:An informal service with hymns\, a reading\, a talk and prayer
 s\, followed by refreshments.
GEO:0.323088;51.141713
LOCATION:The Upper Church of St. Peter\, Pembury
URL:https://www.achurchnearyou.com/church/6772/service-and-events/events/9
 78996/
END:VEVENT
BEGIN:VEVENT
SUMMARY:Down Memory Lane
DTSTART;TZID=Europe/London:20240705T150000
DTEND;TZID=Europe/London:20240705T160000
DTSTAMP:20260425T122701Z
UID:9789962024-07-05 15:00:00+01:00achurchnearyou
CATEGORIES:
DESCRIPTION:An informal service with hymns\, a reading\, a talk and prayer
 s\, followed by refreshments.
GEO:0.323088;51.141713
LOCATION:The Upper Church of St. Peter\, Pembury
URL:https://www.achurchnearyou.com/church/6772/service-and-events/events/9
 78996/
END:VEVENT
BEGIN:VEVENT
SUMMARY:Down Memory Lane
DTSTART;TZID=Europe/London:20240802T150000
DTEND;TZID=Europe/London:20240802T160000
DTSTAMP:20260425T122701Z
UID:9789962024-08-02 15:00:00+01:00achurchnearyou
CATEGORIES:
DESCRIPTION:An informal service with hymns\, a reading\, a talk and prayer
 s\, followed by refreshments.
GEO:0.323088;51.141713
LOCATION:The Upper Church of St. Peter\, Pembury
URL:https://www.achurchnearyou.com/church/6772/service-and-events/events/9
 78996/
END:VEVENT
BEGIN:VEVENT
SUMMARY:Down Memory Lane
DTSTART;TZID=Europe/London:20240906T150000
DTEND;TZID=Europe/London:20240906T160000
DTSTAMP:20260425T122701Z
UID:9789962024-09-06 15:00:00+01:00achurchnearyou
CATEGORIES:
DESCRIPTION:An informal service with hymns\, a reading\, a talk and prayer
 s\, followed by refreshments.
GEO:0.323088;51.141713
LOCATION:The Upper Church of St. Peter\, Pembury
URL:https://www.achurchnearyou.com/church/6772/service-and-events/events/9
 78996/
END:VEVENT
BEGIN:VEVENT
SUMMARY:Down Memory Lane
DTSTART;TZID=Europe/London:20241004T150000
DTEND;TZID=Europe/London:20241004T160000
DTSTAMP:20260425T122701Z
UID:9789962024-10-04 15:00:00+01:00achurchnearyou
CATEGORIES:
DESCRIPTION:An informal service with hymns\, a reading\, a talk and prayer
 s\, followed by refreshments.
GEO:0.323088;51.141713
LOCATION:The Upper Church of St. Peter\, Pembury
URL:https://www.achurchnearyou.com/church/6772/service-and-events/events/9
 78996/
END:VEVENT
BEGIN:VEVENT
SUMMARY:Down Memory Lane
DTSTART;TZID=Europe/London:20241101T150000
DTEND;TZID=Europe/London:20241101T160000
DTSTAMP:20260425T122701Z
UID:9789962024-11-01 15:00:00+00:00achurchnearyou
CATEGORIES:
DESCRIPTION:An informal service with hymns\, a reading\, a talk and prayer
 s\, followed by refreshments.
GEO:0.323088;51.141713
LOCATION:The Upper Church of St. Peter\, Pembury
URL:https://www.achurchnearyou.com/church/6772/service-and-events/events/9
 78996/
END:VEVENT
BEGIN:VEVENT
SUMMARY:Down Memory Lane
DTSTART;TZID=Europe/London:20241206T150000
DTEND;TZID=Europe/London:20241206T160000
DTSTAMP:20260425T122701Z
UID:9789962024-12-06 15:00:00+00:00achurchnearyou
CATEGORIES:
DESCRIPTION:An informal service with hymns\, a reading\, a talk and prayer
 s\, followed by refreshments.
GEO:0.323088;51.141713
LOCATION:The Upper Church of St. Peter\, Pembury
URL:https://www.achurchnearyou.com/church/6772/service-and-events/events/9
 78996/
END:VEVENT
BEGIN:VEVENT
SUMMARY:Down Memory Lane
DTSTART;TZID=Europe/London:20250103T150000
DTEND;TZID=Europe/London:20250103T160000
DTSTAMP:20260425T122701Z
UID:9789962025-01-03 15:00:00+00:00achurchnearyou
CATEGORIES:
DESCRIPTION:An informal service with hymns\, a reading\, a talk and prayer
 s\, followed by refreshments.
GEO:0.323088;51.141713
LOCATION:The Upper Church of St. Peter\, Pembury
URL:https://www.achurchnearyou.com/church/6772/service-and-events/events/9
 78996/
END:VEVENT
BEGIN:VEVENT
SUMMARY:Down Memory Lane
DTSTART;TZID=Europe/London:20250207T150000
DTEND;TZID=Europe/London:20250207T160000
DTSTAMP:20260425T122701Z
UID:9789962025-02-07 15:00:00+00:00achurchnearyou
CATEGORIES:
DESCRIPTION:An informal service with hymns\, a reading\, a talk and prayer
 s\, followed by refreshments.
GEO:0.323088;51.141713
LOCATION:The Upper Church of St. Peter\, Pembury
URL:https://www.achurchnearyou.com/church/6772/service-and-events/events/9
 78996/
END:VEVENT
BEGIN:VEVENT
SUMMARY:Down Memory Lane
DTSTART;TZID=Europe/London:20250307T150000
DTEND;TZID=Europe/London:20250307T160000
DTSTAMP:20260425T122701Z
UID:9789962025-03-07 15:00:00+00:00achurchnearyou
CATEGORIES:
DESCRIPTION:An informal service with hymns\, a reading\, a talk and prayer
 s\, followed by refreshments.
GEO:0.323088;51.141713
LOCATION:The Upper Church of St. Peter\, Pembury
URL:https://www.achurchnearyou.com/church/6772/service-and-events/events/9
 78996/
END:VEVENT
BEGIN:VEVENT
SUMMARY:Down Memory Lane
DTSTART;TZID=Europe/London:20250404T150000
DTEND;TZID=Europe/London:20250404T160000
DTSTAMP:20260425T122701Z
UID:9789962025-04-04 15:00:00+01:00achurchnearyou
CATEGORIES:
DESCRIPTION:An informal service with hymns\, a reading\, a talk and prayer
 s\, followed by refreshments.
GEO:0.323088;51.141713
LOCATION:The Upper Church of St. Peter\, Pembury
URL:https://www.achurchnearyou.com/church/6772/service-and-events/events/9
 78996/
END:VEVENT
BEGIN:VEVENT
SUMMARY:Down Memory Lane
DTSTART;TZID=Europe/London:20250502T150000
DTEND;TZID=Europe/London:20250502T160000
DTSTAMP:20260425T122701Z
UID:9789962025-05-02 15:00:00+01:00achurchnearyou
CATEGORIES:
DESCRIPTION:An informal service with hymns\, a reading\, a talk and prayer
 s\, followed by refreshments.
GEO:0.323088;51.141713
LOCATION:The Upper Church of St. Peter\, Pembury
URL:https://www.achurchnearyou.com/church/6772/service-and-events/events/9
 78996/
END:VEVENT
BEGIN:VEVENT
SUMMARY:Down Memory Lane
DTSTART;TZID=Europe/London:20250606T150000
DTEND;TZID=Europe/London:20250606T160000
DTSTAMP:20260425T122701Z
UID:9789962025-06-06 15:00:00+01:00achurchnearyou
CATEGORIES:
DESCRIPTION:An informal service with hymns\, a reading\, a talk and prayer
 s\, followed by refreshments.
GEO:0.323088;51.141713
LOCATION:The Upper Church of St. Peter\, Pembury
URL:https://www.achurchnearyou.com/church/6772/service-and-events/events/9
 78996/
END:VEVENT
BEGIN:VEVENT
SUMMARY:Down Memory Lane
DTSTART;TZID=Europe/London:20250704T150000
DTEND;TZID=Europe/London:20250704T160000
DTSTAMP:20260425T122701Z
UID:9789962025-07-04 15:00:00+01:00achurchnearyou
CATEGORIES:
DESCRIPTION:An informal service with hymns\, a reading\, a talk and prayer
 s\, followed by refreshments.
GEO:0.323088;51.141713
LOCATION:The Upper Church of St. Peter\, Pembury
URL:https://www.achurchnearyou.com/church/6772/service-and-events/events/9
 78996/
END:VEVENT
BEGIN:VEVENT
SUMMARY:Down Memory Lane
DTSTART;TZID=Europe/London:20250801T150000
DTEND;TZID=Europe/London:20250801T160000
DTSTAMP:20260425T122701Z
UID:9789962025-08-01 15:00:00+01:00achurchnearyou
CATEGORIES:
DESCRIPTION:An informal service with hymns\, a reading\, a talk and prayer
 s\, followed by refreshments.
GEO:0.323088;51.141713
LOCATION:The Upper Church of St. Peter\, Pembury
URL:https://www.achurchnearyou.com/church/6772/service-and-events/events/9
 78996/
END:VEVENT
BEGIN:VEVENT
SUMMARY:Down Memory Lane
DTSTART;TZID=Europe/London:20250905T150000
DTEND;TZID=Europe/London:20250905T160000
DTSTAMP:20260425T122701Z
UID:9789962025-09-05 15:00:00+01:00achurchnearyou
CATEGORIES:
DESCRIPTION:An informal service with hymns\, a reading\, a talk and prayer
 s\, followed by refreshments.
GEO:0.323088;51.141713
LOCATION:The Upper Church of St. Peter\, Pembury
URL:https://www.achurchnearyou.com/church/6772/service-and-events/events/9
 78996/
END:VEVENT
BEGIN:VEVENT
SUMMARY:Down Memory Lane
DTSTART;TZID=Europe/London:20251003T150000
DTEND;TZID=Europe/London:20251003T160000
DTSTAMP:20260425T122701Z
UID:9789962025-10-03 15:00:00+01:00achurchnearyou
CATEGORIES:
DESCRIPTION:An informal service with hymns\, a reading\, a talk and prayer
 s\, followed by refreshments.
GEO:0.323088;51.141713
LOCATION:The Upper Church of St. Peter\, Pembury
URL:https://www.achurchnearyou.com/church/6772/service-and-events/events/9
 78996/
END:VEVENT
BEGIN:VEVENT
SUMMARY:Down Memory Lane
DTSTART;TZID=Europe/London:20251107T150000
DTEND;TZID=Europe/London:20251107T160000
DTSTAMP:20260425T122701Z
UID:9789962025-11-07 15:00:00+00:00achurchnearyou
CATEGORIES:
DESCRIPTION:An informal service with hymns\, a reading\, a talk and prayer
 s\, followed by refreshments.
GEO:0.323088;51.141713
LOCATION:The Upper Church of St. Peter\, Pembury
URL:https://www.achurchnearyou.com/church/6772/service-and-events/events/9
 78996/
END:VEVENT
BEGIN:VEVENT
SUMMARY:Down Memory Lane
DTSTART;TZID=Europe/London:20251205T150000
DTEND;TZID=Europe/London:20251205T160000
DTSTAMP:20260425T122701Z
UID:9789962025-12-05 15:00:00+00:00achurchnearyou
CATEGORIES:
DESCRIPTION:An informal service with hymns\, a reading\, a talk and prayer
 s\, followed by refreshments.
GEO:0.323088;51.141713
LOCATION:The Upper Church of St. Peter\, Pembury
URL:https://www.achurchnearyou.com/church/6772/service-and-events/events/9
 78996/
END:VEVENT
BEGIN:VEVENT
SUMMARY:Down Memory Lane
DTSTART;TZID=Europe/London:20260102T150000
DTEND;TZID=Europe/London:20260102T160000
DTSTAMP:20260425T122701Z
UID:9789962026-01-02 15:00:00+00:00achurchnearyou
CATEGORIES:
DESCRIPTION:An informal service with hymns\, a reading\, a talk and prayer
 s\, followed by refreshments.
GEO:0.323088;51.141713
LOCATION:The Upper Church of St. Peter\, Pembury
URL:https://www.achurchnearyou.com/church/6772/service-and-events/events/9
 78996/
END:VEVENT
BEGIN:VEVENT
SUMMARY:Down Memory Lane
DTSTART;TZID=Europe/London:20260206T150000
DTEND;TZID=Europe/London:20260206T160000
DTSTAMP:20260425T122701Z
UID:9789962026-02-06 15:00:00+00:00achurchnearyou
CATEGORIES:
DESCRIPTION:An informal service with hymns\, a reading\, a talk and prayer
 s\, followed by refreshments.
GEO:0.323088;51.141713
LOCATION:The Upper Church of St. Peter\, Pembury
URL:https://www.achurchnearyou.com/church/6772/service-and-events/events/9
 78996/
END:VEVENT
BEGIN:VEVENT
SUMMARY:Down Memory Lane
DTSTART;TZID=Europe/London:20260306T150000
DTEND;TZID=Europe/London:20260306T160000
DTSTAMP:20260425T122701Z
UID:9789962026-03-06 15:00:00+00:00achurchnearyou
CATEGORIES:
DESCRIPTION:An informal service with hymns\, a reading\, a talk and prayer
 s\, followed by refreshments.
GEO:0.323088;51.141713
LOCATION:The Upper Church of St. Peter\, Pembury
URL:https://www.achurchnearyou.com/church/6772/service-and-events/events/9
 78996/
END:VEVENT
BEGIN:VEVENT
SUMMARY:Down Memory Lane
DTSTART;TZID=Europe/London:20260403T150000
DTEND;TZID=Europe/London:20260403T160000
DTSTAMP:20260425T122701Z
UID:9789962026-04-03 15:00:00+01:00achurchnearyou
CATEGORIES:
DESCRIPTION:An informal service with hymns\, a reading\, a talk and prayer
 s\, followed by refreshments.
GEO:0.323088;51.141713
LOCATION:The Upper Church of St. Peter\, Pembury
URL:https://www.achurchnearyou.com/church/6772/service-and-events/events/9
 78996/
END:VEVENT
BEGIN:VEVENT
SUMMARY:Down Memory Lane
DTSTART;TZID=Europe/London:20260501T150000
DTEND;TZID=Europe/London:20260501T160000
DTSTAMP:20260425T122701Z
UID:9789962026-05-01 15:00:00+01:00achurchnearyou
CATEGORIES:
DESCRIPTION:An informal service with hymns\, a reading\, a talk and prayer
 s\, followed by refreshments.
GEO:0.323088;51.141713
LOCATION:The Upper Church of St. Peter\, Pembury
URL:https://www.achurchnearyou.com/church/6772/service-and-events/events/9
 78996/
END:VEVENT
BEGIN:VEVENT
SUMMARY:Down Memory Lane
DTSTART;TZID=Europe/London:20260605T150000
DTEND;TZID=Europe/London:20260605T160000
DTSTAMP:20260425T122701Z
UID:9789962026-06-05 15:00:00+01:00achurchnearyou
CATEGORIES:
DESCRIPTION:An informal service with hymns\, a reading\, a talk and prayer
 s\, followed by refreshments.
GEO:0.323088;51.141713
LOCATION:The Upper Church of St. Peter\, Pembury
URL:https://www.achurchnearyou.com/church/6772/service-and-events/events/9
 78996/
END:VEVENT
BEGIN:VEVENT
SUMMARY:Down Memory Lane
DTSTART;TZID=Europe/London:20260703T150000
DTEND;TZID=Europe/London:20260703T160000
DTSTAMP:20260425T122701Z
UID:9789962026-07-03 15:00:00+01:00achurchnearyou
CATEGORIES:
DESCRIPTION:An informal service with hymns\, a reading\, a talk and prayer
 s\, followed by refreshments.
GEO:0.323088;51.141713
LOCATION:The Upper Church of St. Peter\, Pembury
URL:https://www.achurchnearyou.com/church/6772/service-and-events/events/9
 78996/
END:VEVENT
BEGIN:VEVENT
SUMMARY:Down Memory Lane
DTSTART;TZID=Europe/London:20260807T150000
DTEND;TZID=Europe/London:20260807T160000
DTSTAMP:20260425T122701Z
UID:9789962026-08-07 15:00:00+01:00achurchnearyou
CATEGORIES:
DESCRIPTION:An informal service with hymns\, a reading\, a talk and prayer
 s\, followed by refreshments.
GEO:0.323088;51.141713
LOCATION:The Upper Church of St. Peter\, Pembury
URL:https://www.achurchnearyou.com/church/6772/service-and-events/events/9
 78996/
END:VEVENT
BEGIN:VEVENT
SUMMARY:Down Memory Lane
DTSTART;TZID=Europe/London:20260904T150000
DTEND;TZID=Europe/London:20260904T160000
DTSTAMP:20260425T122701Z
UID:9789962026-09-04 15:00:00+01:00achurchnearyou
CATEGORIES:
DESCRIPTION:An informal service with hymns\, a reading\, a talk and prayer
 s\, followed by refreshments.
GEO:0.323088;51.141713
LOCATION:The Upper Church of St. Peter\, Pembury
URL:https://www.achurchnearyou.com/church/6772/service-and-events/events/9
 78996/
END:VEVENT
BEGIN:VEVENT
SUMMARY:Down Memory Lane
DTSTART;TZID=Europe/London:20261002T150000
DTEND;TZID=Europe/London:20261002T160000
DTSTAMP:20260425T122701Z
UID:9789962026-10-02 15:00:00+01:00achurchnearyou
CATEGORIES:
DESCRIPTION:An informal service with hymns\, a reading\, a talk and prayer
 s\, followed by refreshments.
GEO:0.323088;51.141713
LOCATION:The Upper Church of St. Peter\, Pembury
URL:https://www.achurchnearyou.com/church/6772/service-and-events/events/9
 78996/
END:VEVENT
BEGIN:VEVENT
SUMMARY:Down Memory Lane
DTSTART;TZID=Europe/London:20261106T150000
DTEND;TZID=Europe/London:20261106T160000
DTSTAMP:20260425T122701Z
UID:9789962026-11-06 15:00:00+00:00achurchnearyou
CATEGORIES:
DESCRIPTION:An informal service with hymns\, a reading\, a talk and prayer
 s\, followed by refreshments.
GEO:0.323088;51.141713
LOCATION:The Upper Church of St. Peter\, Pembury
URL:https://www.achurchnearyou.com/church/6772/service-and-events/events/9
 78996/
END:VEVENT
BEGIN:VEVENT
SUMMARY:Down Memory Lane
DTSTART;TZID=Europe/London:20261204T150000
DTEND;TZID=Europe/London:20261204T160000
DTSTAMP:20260425T122701Z
UID:9789962026-12-04 15:00:00+00:00achurchnearyou
CATEGORIES:
DESCRIPTION:An informal service with hymns\, a reading\, a talk and prayer
 s\, followed by refreshments.
GEO:0.323088;51.141713
LOCATION:The Upper Church of St. Peter\, Pembury
URL:https://www.achurchnearyou.com/church/6772/service-and-events/events/9
 78996/
END:VEVENT
BEGIN:VEVENT
SUMMARY:Down Memory Lane
DTSTART;TZID=Europe/London:20270101T150000
DTEND;TZID=Europe/London:20270101T160000
DTSTAMP:20260425T122701Z
UID:9789962027-01-01 15:00:00+00:00achurchnearyou
CATEGORIES:
DESCRIPTION:An informal service with hymns\, a reading\, a talk and prayer
 s\, followed by refreshments.
GEO:0.323088;51.141713
LOCATION:The Upper Church of St. Peter\, Pembury
URL:https://www.achurchnearyou.com/church/6772/service-and-events/events/9
 78996/
END:VEVENT
BEGIN:VEVENT
SUMMARY:Down Memory Lane
DTSTART;TZID=Europe/London:20270205T150000
DTEND;TZID=Europe/London:20270205T160000
DTSTAMP:20260425T122701Z
UID:9789962027-02-05 15:00:00+00:00achurchnearyou
CATEGORIES:
DESCRIPTION:An informal service with hymns\, a reading\, a talk and prayer
 s\, followed by refreshments.
GEO:0.323088;51.141713
LOCATION:The Upper Church of St. Peter\, Pembury
URL:https://www.achurchnearyou.com/church/6772/service-and-events/events/9
 78996/
END:VEVENT
BEGIN:VEVENT
SUMMARY:Down Memory Lane
DTSTART;TZID=Europe/London:20270305T150000
DTEND;TZID=Europe/London:20270305T160000
DTSTAMP:20260425T122701Z
UID:9789962027-03-05 15:00:00+00:00achurchnearyou
CATEGORIES:
DESCRIPTION:An informal service with hymns\, a reading\, a talk and prayer
 s\, followed by refreshments.
GEO:0.323088;51.141713
LOCATION:The Upper Church of St. Peter\, Pembury
URL:https://www.achurchnearyou.com/church/6772/service-and-events/events/9
 78996/
END:VEVENT
BEGIN:VEVENT
SUMMARY:Down Memory Lane
DTSTART;TZID=Europe/London:20270402T150000
DTEND;TZID=Europe/London:20270402T160000
DTSTAMP:20260425T122701Z
UID:9789962027-04-02 15:00:00+01:00achurchnearyou
CATEGORIES:
DESCRIPTION:An informal service with hymns\, a reading\, a talk and prayer
 s\, followed by refreshments.
GEO:0.323088;51.141713
LOCATION:The Upper Church of St. Peter\, Pembury
URL:https://www.achurchnearyou.com/church/6772/service-and-events/events/9
 78996/
END:VEVENT
END:VCALENDAR
