BEGIN:VCALENDAR
VERSION:2.0
PRODID:-//achurchnearyou.com//eventfeed//EN
CALSCALE:GREGORIAN
METHOD:PUBLISH
X-WR-TIMEZONE:UTC
BEGIN:VEVENT
SUMMARY:Christingle Service
DTSTART:20251214T150000Z
DTEND:20251214T160000Z
DTSTAMP:20260421T053302Z
UID:12620602025-12-14 15:00:00+00:00achurchnearyou
CATEGORIES:
DESCRIPTION:Christingle is a joyful celebration that brings families and c
 ommunities together to share the light of Jesus and spread a message of ho
 pe.  Christingle celebrations are named after the Christingles that are li
 t during the ceremony. Christingles are oranges wrapped in red tape\, deco
 rated with dried fruit or sweets\, with a candle on the top.
GEO:-0.233114;51.725513
LOCATION:St. Mary's\, North Mymms
URL:https://www.achurchnearyou.com/church/6791/service-and-events/events/1
 262060/
END:VEVENT
END:VCALENDAR
