BEGIN:VCALENDAR
VERSION:2.0
PRODID:-//achurchnearyou.com//eventfeed//EN
CALSCALE:GREGORIAN
METHOD:PUBLISH
X-WR-TIMEZONE:UTC
BEGIN:VEVENT
SUMMARY:Palm Sunday Service
DTSTART:20260329T083000Z
DTEND:20260329T093000Z
DTSTAMP:20260420T213722Z
UID:12992162026-03-29 08:30:00+00:00achurchnearyou
CATEGORIES:
DESCRIPTION:Palm Sunday recalls the story of Jesus' entry into Jerusalem\,
  greeted by people waving palm branches. It is a reminder for Christians t
 o welcome Jesus into their hearts and to be willing to follow him.
GEO:-0.233114;51.725513
LOCATION:St. Mary's\, North Mymms
URL:https://www.achurchnearyou.com/church/6791/service-and-events/events/1
 299216/
END:VEVENT
END:VCALENDAR
