BEGIN:VCALENDAR
VERSION:2.0
PRODID:-//achurchnearyou.com//eventfeed//EN
CALSCALE:GREGORIAN
METHOD:PUBLISH
X-WR-TIMEZONE:UTC
BEGIN:VEVENT
SUMMARY:BCP Contemplative service\, 1st Sunday of the month
DTSTART;TZID=Europe/London:20251207T080000
DTEND;TZID=Europe/London:20251207T084500
DTSTAMP:20260420T174837Z
UID:7652202025-12-07 08:00:00+00:00achurchnearyou
CATEGORIES:
DESCRIPTION:Following the Book of Common Prayer\, this short service with 
 the Eucharist is a lovely and quiet start to Sundays and the month. We wil
 l hold this service on the first Sunday each month at 8am. All are welcome
 .
GEO:-0.233114;51.725513
LOCATION:St. Mary's\, North Mymms
URL:https://www.achurchnearyou.com/church/6791/service-and-events/events/7
 65220/
END:VEVENT
BEGIN:VEVENT
SUMMARY:BCP Contemplative service\, 1st Sunday of the month
DTSTART;TZID=Europe/London:20260104T080000
DTEND;TZID=Europe/London:20260104T084500
DTSTAMP:20260420T174837Z
UID:7652202026-01-04 08:00:00+00:00achurchnearyou
CATEGORIES:
DESCRIPTION:Following the Book of Common Prayer\, this short service with 
 the Eucharist is a lovely and quiet start to Sundays and the month. We wil
 l hold this service on the first Sunday each month at 8am. All are welcome
 .
GEO:-0.233114;51.725513
LOCATION:St. Mary's\, North Mymms
URL:https://www.achurchnearyou.com/church/6791/service-and-events/events/7
 65220/
END:VEVENT
BEGIN:VEVENT
SUMMARY:BCP Contemplative service\, 1st Sunday of the month
DTSTART;TZID=Europe/London:20260201T080000
DTEND;TZID=Europe/London:20260201T084500
DTSTAMP:20260420T174837Z
UID:7652202026-02-01 08:00:00+00:00achurchnearyou
CATEGORIES:
DESCRIPTION:Following the Book of Common Prayer\, this short service with 
 the Eucharist is a lovely and quiet start to Sundays and the month. We wil
 l hold this service on the first Sunday each month at 8am. All are welcome
 .
GEO:-0.233114;51.725513
LOCATION:St. Mary's\, North Mymms
URL:https://www.achurchnearyou.com/church/6791/service-and-events/events/7
 65220/
END:VEVENT
BEGIN:VEVENT
SUMMARY:BCP Contemplative service\, 1st Sunday of the month
DTSTART;TZID=Europe/London:20260301T080000
DTEND;TZID=Europe/London:20260301T084500
DTSTAMP:20260420T174837Z
UID:7652202026-03-01 08:00:00+00:00achurchnearyou
CATEGORIES:
DESCRIPTION:Following the Book of Common Prayer\, this short service with 
 the Eucharist is a lovely and quiet start to Sundays and the month. We wil
 l hold this service on the first Sunday each month at 8am. All are welcome
 .
GEO:-0.233114;51.725513
LOCATION:St. Mary's\, North Mymms
URL:https://www.achurchnearyou.com/church/6791/service-and-events/events/7
 65220/
END:VEVENT
BEGIN:VEVENT
SUMMARY:BCP Contemplative service\, 1st Sunday of the month
DTSTART;TZID=Europe/London:20260405T080000
DTEND;TZID=Europe/London:20260405T084500
DTSTAMP:20260420T174837Z
UID:7652202026-04-05 08:00:00+01:00achurchnearyou
CATEGORIES:
DESCRIPTION:Following the Book of Common Prayer\, this short service with 
 the Eucharist is a lovely and quiet start to Sundays and the month. We wil
 l hold this service on the first Sunday each month at 8am. All are welcome
 .
GEO:-0.233114;51.725513
LOCATION:St. Mary's\, North Mymms
URL:https://www.achurchnearyou.com/church/6791/service-and-events/events/7
 65220/
END:VEVENT
BEGIN:VEVENT
SUMMARY:BCP Contemplative service\, 1st Sunday of the month
DTSTART;TZID=Europe/London:20260503T080000
DTEND;TZID=Europe/London:20260503T084500
DTSTAMP:20260420T174837Z
UID:7652202026-05-03 08:00:00+01:00achurchnearyou
CATEGORIES:
DESCRIPTION:Following the Book of Common Prayer\, this short service with 
 the Eucharist is a lovely and quiet start to Sundays and the month. We wil
 l hold this service on the first Sunday each month at 8am. All are welcome
 .
GEO:-0.233114;51.725513
LOCATION:St. Mary's\, North Mymms
URL:https://www.achurchnearyou.com/church/6791/service-and-events/events/7
 65220/
END:VEVENT
BEGIN:VEVENT
SUMMARY:BCP Contemplative service\, 1st Sunday of the month
DTSTART;TZID=Europe/London:20260607T080000
DTEND;TZID=Europe/London:20260607T084500
DTSTAMP:20260420T174837Z
UID:7652202026-06-07 08:00:00+01:00achurchnearyou
CATEGORIES:
DESCRIPTION:Following the Book of Common Prayer\, this short service with 
 the Eucharist is a lovely and quiet start to Sundays and the month. We wil
 l hold this service on the first Sunday each month at 8am. All are welcome
 .
GEO:-0.233114;51.725513
LOCATION:St. Mary's\, North Mymms
URL:https://www.achurchnearyou.com/church/6791/service-and-events/events/7
 65220/
END:VEVENT
BEGIN:VEVENT
SUMMARY:BCP Contemplative service\, 1st Sunday of the month
DTSTART;TZID=Europe/London:20260705T080000
DTEND;TZID=Europe/London:20260705T084500
DTSTAMP:20260420T174837Z
UID:7652202026-07-05 08:00:00+01:00achurchnearyou
CATEGORIES:
DESCRIPTION:Following the Book of Common Prayer\, this short service with 
 the Eucharist is a lovely and quiet start to Sundays and the month. We wil
 l hold this service on the first Sunday each month at 8am. All are welcome
 .
GEO:-0.233114;51.725513
LOCATION:St. Mary's\, North Mymms
URL:https://www.achurchnearyou.com/church/6791/service-and-events/events/7
 65220/
END:VEVENT
BEGIN:VEVENT
SUMMARY:BCP Contemplative service\, 1st Sunday of the month
DTSTART;TZID=Europe/London:20260802T080000
DTEND;TZID=Europe/London:20260802T084500
DTSTAMP:20260420T174837Z
UID:7652202026-08-02 08:00:00+01:00achurchnearyou
CATEGORIES:
DESCRIPTION:Following the Book of Common Prayer\, this short service with 
 the Eucharist is a lovely and quiet start to Sundays and the month. We wil
 l hold this service on the first Sunday each month at 8am. All are welcome
 .
GEO:-0.233114;51.725513
LOCATION:St. Mary's\, North Mymms
URL:https://www.achurchnearyou.com/church/6791/service-and-events/events/7
 65220/
END:VEVENT
BEGIN:VEVENT
SUMMARY:BCP Contemplative service\, 1st Sunday of the month
DTSTART;TZID=Europe/London:20260906T080000
DTEND;TZID=Europe/London:20260906T084500
DTSTAMP:20260420T174837Z
UID:7652202026-09-06 08:00:00+01:00achurchnearyou
CATEGORIES:
DESCRIPTION:Following the Book of Common Prayer\, this short service with 
 the Eucharist is a lovely and quiet start to Sundays and the month. We wil
 l hold this service on the first Sunday each month at 8am. All are welcome
 .
GEO:-0.233114;51.725513
LOCATION:St. Mary's\, North Mymms
URL:https://www.achurchnearyou.com/church/6791/service-and-events/events/7
 65220/
END:VEVENT
BEGIN:VEVENT
SUMMARY:BCP Contemplative service\, 1st Sunday of the month
DTSTART;TZID=Europe/London:20261004T080000
DTEND;TZID=Europe/London:20261004T084500
DTSTAMP:20260420T174837Z
UID:7652202026-10-04 08:00:00+01:00achurchnearyou
CATEGORIES:
DESCRIPTION:Following the Book of Common Prayer\, this short service with 
 the Eucharist is a lovely and quiet start to Sundays and the month. We wil
 l hold this service on the first Sunday each month at 8am. All are welcome
 .
GEO:-0.233114;51.725513
LOCATION:St. Mary's\, North Mymms
URL:https://www.achurchnearyou.com/church/6791/service-and-events/events/7
 65220/
END:VEVENT
BEGIN:VEVENT
SUMMARY:BCP Contemplative service\, 1st Sunday of the month
DTSTART;TZID=Europe/London:20261101T080000
DTEND;TZID=Europe/London:20261101T084500
DTSTAMP:20260420T174837Z
UID:7652202026-11-01 08:00:00+00:00achurchnearyou
CATEGORIES:
DESCRIPTION:Following the Book of Common Prayer\, this short service with 
 the Eucharist is a lovely and quiet start to Sundays and the month. We wil
 l hold this service on the first Sunday each month at 8am. All are welcome
 .
GEO:-0.233114;51.725513
LOCATION:St. Mary's\, North Mymms
URL:https://www.achurchnearyou.com/church/6791/service-and-events/events/7
 65220/
END:VEVENT
BEGIN:VEVENT
SUMMARY:BCP Contemplative service\, 1st Sunday of the month
DTSTART;TZID=Europe/London:20261206T080000
DTEND;TZID=Europe/London:20261206T084500
DTSTAMP:20260420T174837Z
UID:7652202026-12-06 08:00:00+00:00achurchnearyou
CATEGORIES:
DESCRIPTION:Following the Book of Common Prayer\, this short service with 
 the Eucharist is a lovely and quiet start to Sundays and the month. We wil
 l hold this service on the first Sunday each month at 8am. All are welcome
 .
GEO:-0.233114;51.725513
LOCATION:St. Mary's\, North Mymms
URL:https://www.achurchnearyou.com/church/6791/service-and-events/events/7
 65220/
END:VEVENT
END:VCALENDAR
