BEGIN:VCALENDAR
VERSION:2.0
PRODID:-//achurchnearyou.com//eventfeed//EN
CALSCALE:GREGORIAN
METHOD:PUBLISH
X-WR-TIMEZONE:UTC
BEGIN:VEVENT
SUMMARY:Sunday Club
DTSTART;TZID=Europe/London:20250309T093000
DTEND;TZID=Europe/London:20250309T101500
DTSTAMP:20260421T214336Z
UID:9092752025-03-09 09:30:00+00:00achurchnearyou
CATEGORIES:
DESCRIPTION:For children up to 11 years old. Join us at 9.30am in the St M
 ichael’s Room\, during the morning service\, to learn about God and Jesu
 s with stories and activities and then rejoin everybody in church during c
 ommunion.\n\nUsually held on the second and third Sundays of the month but
  please check the dates\, as these may vary.
GEO:-0.233114;51.725513
LOCATION:St. Mary's\, North Mymms
URL:https://www.achurchnearyou.com/church/6791/service-and-events/events/9
 09275/
END:VEVENT
BEGIN:VEVENT
SUMMARY:Sunday Club
DTSTART;TZID=Europe/London:20250316T093000
DTEND;TZID=Europe/London:20250316T101500
DTSTAMP:20260421T214336Z
UID:9092752025-03-16 09:30:00+00:00achurchnearyou
CATEGORIES:
DESCRIPTION:For children up to 11 years old. Join us at 9.30am in the St M
 ichael’s Room\, during the morning service\, to learn about God and Jesu
 s with stories and activities and then rejoin everybody in church during c
 ommunion.\n\nUsually held on the second and third Sundays of the month but
  please check the dates\, as these may vary.
GEO:-0.233114;51.725513
LOCATION:St. Mary's\, North Mymms
URL:https://www.achurchnearyou.com/church/6791/service-and-events/events/9
 09275/
END:VEVENT
END:VCALENDAR
