BEGIN:VCALENDAR
VERSION:2.0
PRODID:-//achurchnearyou.com//eventfeed//EN
CALSCALE:GREGORIAN
METHOD:PUBLISH
X-WR-TIMEZONE:UTC
BEGIN:VEVENT
SUMMARY:Wild Worship
DTSTART;TZID=Europe/London:20240225T143000
DTEND;TZID=Europe/London:20240225T160000
DTSTAMP:20260420T174913Z
UID:9175332024-02-25 14:30:00+00:00achurchnearyou
CATEGORIES:
DESCRIPTION:Activities for all ages\, adults and children\, to enjoy our o
 utside space\, relating to the season.  Dress appropriately for the weathe
 r.  All children must have adult supervision.\n\nNo need to book\, just co
 me along!
GEO:-0.233114;51.725513
LOCATION:St. Mary's\, North Mymms
URL:https://www.achurchnearyou.com/church/6791/service-and-events/events/9
 17533/
END:VEVENT
BEGIN:VEVENT
SUMMARY:Wild Worship
DTSTART;TZID=Europe/London:20240324T143000
DTEND;TZID=Europe/London:20240324T160000
DTSTAMP:20260420T174913Z
UID:9175332024-03-24 14:30:00+00:00achurchnearyou
CATEGORIES:
DESCRIPTION:Activities for all ages\, adults and children\, to enjoy our o
 utside space\, relating to the season.  Dress appropriately for the weathe
 r.  All children must have adult supervision.\n\nNo need to book\, just co
 me along!
GEO:-0.233114;51.725513
LOCATION:St. Mary's\, North Mymms
URL:https://www.achurchnearyou.com/church/6791/service-and-events/events/9
 17533/
END:VEVENT
BEGIN:VEVENT
SUMMARY:Wild Worship
DTSTART;TZID=Europe/London:20240428T143000
DTEND;TZID=Europe/London:20240428T160000
DTSTAMP:20260420T174913Z
UID:9175332024-04-28 14:30:00+01:00achurchnearyou
CATEGORIES:
DESCRIPTION:Activities for all ages\, adults and children\, to enjoy our o
 utside space\, relating to the season.  Dress appropriately for the weathe
 r.  All children must have adult supervision.\n\nNo need to book\, just co
 me along!
GEO:-0.233114;51.725513
LOCATION:St. Mary's\, North Mymms
URL:https://www.achurchnearyou.com/church/6791/service-and-events/events/9
 17533/
END:VEVENT
BEGIN:VEVENT
SUMMARY:Wild Worship
DTSTART;TZID=Europe/London:20240526T143000
DTEND;TZID=Europe/London:20240526T160000
DTSTAMP:20260420T174913Z
UID:9175332024-05-26 14:30:00+01:00achurchnearyou
CATEGORIES:
DESCRIPTION:Activities for all ages\, adults and children\, to enjoy our o
 utside space\, relating to the season.  Dress appropriately for the weathe
 r.  All children must have adult supervision.\n\nNo need to book\, just co
 me along!
GEO:-0.233114;51.725513
LOCATION:St. Mary's\, North Mymms
URL:https://www.achurchnearyou.com/church/6791/service-and-events/events/9
 17533/
END:VEVENT
BEGIN:VEVENT
SUMMARY:Wild Worship
DTSTART;TZID=Europe/London:20240623T143000
DTEND;TZID=Europe/London:20240623T160000
DTSTAMP:20260420T174913Z
UID:9175332024-06-23 14:30:00+01:00achurchnearyou
CATEGORIES:
DESCRIPTION:Activities for all ages\, adults and children\, to enjoy our o
 utside space\, relating to the season.  Dress appropriately for the weathe
 r.  All children must have adult supervision.\n\nNo need to book\, just co
 me along!
GEO:-0.233114;51.725513
LOCATION:St. Mary's\, North Mymms
URL:https://www.achurchnearyou.com/church/6791/service-and-events/events/9
 17533/
END:VEVENT
BEGIN:VEVENT
SUMMARY:Wild Worship
DTSTART;TZID=Europe/London:20240922T143000
DTEND;TZID=Europe/London:20240922T160000
DTSTAMP:20260420T174913Z
UID:9175332024-09-22 14:30:00+01:00achurchnearyou
CATEGORIES:
DESCRIPTION:Activities for all ages\, adults and children\, to enjoy our o
 utside space\, relating to the season.  Dress appropriately for the weathe
 r.  All children must have adult supervision.\n\nNo need to book\, just co
 me along!
GEO:-0.233114;51.725513
LOCATION:St. Mary's\, North Mymms
URL:https://www.achurchnearyou.com/church/6791/service-and-events/events/9
 17533/
END:VEVENT
BEGIN:VEVENT
SUMMARY:Wild Worship
DTSTART;TZID=Europe/London:20241027T143000
DTEND;TZID=Europe/London:20241027T160000
DTSTAMP:20260420T174913Z
UID:9175332024-10-27 14:30:00+00:00achurchnearyou
CATEGORIES:
DESCRIPTION:Activities for all ages\, adults and children\, to enjoy our o
 utside space\, relating to the season.  Dress appropriately for the weathe
 r.  All children must have adult supervision.\n\nNo need to book\, just co
 me along!
GEO:-0.233114;51.725513
LOCATION:St. Mary's\, North Mymms
URL:https://www.achurchnearyou.com/church/6791/service-and-events/events/9
 17533/
END:VEVENT
BEGIN:VEVENT
SUMMARY:Wild Worship
DTSTART;TZID=Europe/London:20241124T143000
DTEND;TZID=Europe/London:20241124T160000
DTSTAMP:20260420T174913Z
UID:9175332024-11-24 14:30:00+00:00achurchnearyou
CATEGORIES:
DESCRIPTION:Activities for all ages\, adults and children\, to enjoy our o
 utside space\, relating to the season.  Dress appropriately for the weathe
 r.  All children must have adult supervision.\n\nNo need to book\, just co
 me along!
GEO:-0.233114;51.725513
LOCATION:St. Mary's\, North Mymms
URL:https://www.achurchnearyou.com/church/6791/service-and-events/events/9
 17533/
END:VEVENT
BEGIN:VEVENT
SUMMARY:Wild Worship
DTSTART;TZID=Europe/London:20250223T143000
DTEND;TZID=Europe/London:20250223T160000
DTSTAMP:20260420T174913Z
UID:9175332025-02-23 14:30:00+00:00achurchnearyou
CATEGORIES:
DESCRIPTION:Activities for all ages\, adults and children\, to enjoy our o
 utside space\, relating to the season.  Dress appropriately for the weathe
 r.  All children must have adult supervision.\n\nNo need to book\, just co
 me along!
GEO:-0.233114;51.725513
LOCATION:St. Mary's\, North Mymms
URL:https://www.achurchnearyou.com/church/6791/service-and-events/events/9
 17533/
END:VEVENT
BEGIN:VEVENT
SUMMARY:Wild Worship
DTSTART;TZID=Europe/London:20250323T143000
DTEND;TZID=Europe/London:20250323T160000
DTSTAMP:20260420T174913Z
UID:9175332025-03-23 14:30:00+00:00achurchnearyou
CATEGORIES:
DESCRIPTION:Activities for all ages\, adults and children\, to enjoy our o
 utside space\, relating to the season.  Dress appropriately for the weathe
 r.  All children must have adult supervision.\n\nNo need to book\, just co
 me along!
GEO:-0.233114;51.725513
LOCATION:St. Mary's\, North Mymms
URL:https://www.achurchnearyou.com/church/6791/service-and-events/events/9
 17533/
END:VEVENT
BEGIN:VEVENT
SUMMARY:Wild Worship
DTSTART;TZID=Europe/London:20250427T143000
DTEND;TZID=Europe/London:20250427T160000
DTSTAMP:20260420T174913Z
UID:9175332025-04-27 14:30:00+01:00achurchnearyou
CATEGORIES:
DESCRIPTION:Activities for all ages\, adults and children\, to enjoy our o
 utside space\, relating to the season.  Dress appropriately for the weathe
 r.  All children must have adult supervision.\n\nNo need to book\, just co
 me along!
GEO:-0.233114;51.725513
LOCATION:St. Mary's\, North Mymms
URL:https://www.achurchnearyou.com/church/6791/service-and-events/events/9
 17533/
END:VEVENT
BEGIN:VEVENT
SUMMARY:Wild Worship
DTSTART;TZID=Europe/London:20250525T143000
DTEND;TZID=Europe/London:20250525T160000
DTSTAMP:20260420T174913Z
UID:9175332025-05-25 14:30:00+01:00achurchnearyou
CATEGORIES:
DESCRIPTION:Activities for all ages\, adults and children\, to enjoy our o
 utside space\, relating to the season.  Dress appropriately for the weathe
 r.  All children must have adult supervision.\n\nNo need to book\, just co
 me along!
GEO:-0.233114;51.725513
LOCATION:St. Mary's\, North Mymms
URL:https://www.achurchnearyou.com/church/6791/service-and-events/events/9
 17533/
END:VEVENT
BEGIN:VEVENT
SUMMARY:Wild Worship
DTSTART;TZID=Europe/London:20250622T143000
DTEND;TZID=Europe/London:20250622T160000
DTSTAMP:20260420T174913Z
UID:9175332025-06-22 14:30:00+01:00achurchnearyou
CATEGORIES:
DESCRIPTION:Activities for all ages\, adults and children\, to enjoy our o
 utside space\, relating to the season.  Dress appropriately for the weathe
 r.  All children must have adult supervision.\n\nNo need to book\, just co
 me along!
GEO:-0.233114;51.725513
LOCATION:St. Mary's\, North Mymms
URL:https://www.achurchnearyou.com/church/6791/service-and-events/events/9
 17533/
END:VEVENT
BEGIN:VEVENT
SUMMARY:Wild Worship
DTSTART;TZID=Europe/London:20250928T143000
DTEND;TZID=Europe/London:20250928T160000
DTSTAMP:20260420T174913Z
UID:9175332025-09-28 14:30:00+01:00achurchnearyou
CATEGORIES:
DESCRIPTION:Activities for all ages\, adults and children\, to enjoy our o
 utside space\, relating to the season.  Dress appropriately for the weathe
 r.  All children must have adult supervision.\n\nNo need to book\, just co
 me along!
GEO:-0.233114;51.725513
LOCATION:St. Mary's\, North Mymms
URL:https://www.achurchnearyou.com/church/6791/service-and-events/events/9
 17533/
END:VEVENT
BEGIN:VEVENT
SUMMARY:Wild Worship
DTSTART;TZID=Europe/London:20251026T143000
DTEND;TZID=Europe/London:20251026T160000
DTSTAMP:20260420T174913Z
UID:9175332025-10-26 14:30:00+00:00achurchnearyou
CATEGORIES:
DESCRIPTION:Activities for all ages\, adults and children\, to enjoy our o
 utside space\, relating to the season.  Dress appropriately for the weathe
 r.  All children must have adult supervision.\n\nNo need to book\, just co
 me along!
GEO:-0.233114;51.725513
LOCATION:St. Mary's\, North Mymms
URL:https://www.achurchnearyou.com/church/6791/service-and-events/events/9
 17533/
END:VEVENT
BEGIN:VEVENT
SUMMARY:Wild Worship
DTSTART;TZID=Europe/London:20251123T143000
DTEND;TZID=Europe/London:20251123T160000
DTSTAMP:20260420T174913Z
UID:9175332025-11-23 14:30:00+00:00achurchnearyou
CATEGORIES:
DESCRIPTION:Activities for all ages\, adults and children\, to enjoy our o
 utside space\, relating to the season.  Dress appropriately for the weathe
 r.  All children must have adult supervision.\n\nNo need to book\, just co
 me along!
GEO:-0.233114;51.725513
LOCATION:St. Mary's\, North Mymms
URL:https://www.achurchnearyou.com/church/6791/service-and-events/events/9
 17533/
END:VEVENT
BEGIN:VEVENT
SUMMARY:Wild Worship
DTSTART;TZID=Europe/London:20260222T143000
DTEND;TZID=Europe/London:20260222T160000
DTSTAMP:20260420T174913Z
UID:9175332026-02-22 14:30:00+00:00achurchnearyou
CATEGORIES:
DESCRIPTION:Activities for all ages\, adults and children\, to enjoy our o
 utside space\, relating to the season.  Dress appropriately for the weathe
 r.  All children must have adult supervision.\n\nNo need to book\, just co
 me along!
GEO:-0.233114;51.725513
LOCATION:St. Mary's\, North Mymms
URL:https://www.achurchnearyou.com/church/6791/service-and-events/events/9
 17533/
END:VEVENT
BEGIN:VEVENT
SUMMARY:Wild Worship
DTSTART;TZID=Europe/London:20260322T143000
DTEND;TZID=Europe/London:20260322T160000
DTSTAMP:20260420T174913Z
UID:9175332026-03-22 14:30:00+00:00achurchnearyou
CATEGORIES:
DESCRIPTION:Activities for all ages\, adults and children\, to enjoy our o
 utside space\, relating to the season.  Dress appropriately for the weathe
 r.  All children must have adult supervision.\n\nNo need to book\, just co
 me along!
GEO:-0.233114;51.725513
LOCATION:St. Mary's\, North Mymms
URL:https://www.achurchnearyou.com/church/6791/service-and-events/events/9
 17533/
END:VEVENT
BEGIN:VEVENT
SUMMARY:Wild Worship
DTSTART;TZID=Europe/London:20260426T143000
DTEND;TZID=Europe/London:20260426T160000
DTSTAMP:20260420T174913Z
UID:9175332026-04-26 14:30:00+01:00achurchnearyou
CATEGORIES:
DESCRIPTION:Activities for all ages\, adults and children\, to enjoy our o
 utside space\, relating to the season.  Dress appropriately for the weathe
 r.  All children must have adult supervision.\n\nNo need to book\, just co
 me along!
GEO:-0.233114;51.725513
LOCATION:St. Mary's\, North Mymms
URL:https://www.achurchnearyou.com/church/6791/service-and-events/events/9
 17533/
END:VEVENT
BEGIN:VEVENT
SUMMARY:Wild Worship
DTSTART;TZID=Europe/London:20260524T143000
DTEND;TZID=Europe/London:20260524T160000
DTSTAMP:20260420T174913Z
UID:9175332026-05-24 14:30:00+01:00achurchnearyou
CATEGORIES:
DESCRIPTION:Activities for all ages\, adults and children\, to enjoy our o
 utside space\, relating to the season.  Dress appropriately for the weathe
 r.  All children must have adult supervision.\n\nNo need to book\, just co
 me along!
GEO:-0.233114;51.725513
LOCATION:St. Mary's\, North Mymms
URL:https://www.achurchnearyou.com/church/6791/service-and-events/events/9
 17533/
END:VEVENT
BEGIN:VEVENT
SUMMARY:Wild Worship
DTSTART;TZID=Europe/London:20260628T143000
DTEND;TZID=Europe/London:20260628T160000
DTSTAMP:20260420T174913Z
UID:9175332026-06-28 14:30:00+01:00achurchnearyou
CATEGORIES:
DESCRIPTION:Activities for all ages\, adults and children\, to enjoy our o
 utside space\, relating to the season.  Dress appropriately for the weathe
 r.  All children must have adult supervision.\n\nNo need to book\, just co
 me along!
GEO:-0.233114;51.725513
LOCATION:St. Mary's\, North Mymms
URL:https://www.achurchnearyou.com/church/6791/service-and-events/events/9
 17533/
END:VEVENT
BEGIN:VEVENT
SUMMARY:Wild Worship
DTSTART;TZID=Europe/London:20260927T143000
DTEND;TZID=Europe/London:20260927T160000
DTSTAMP:20260420T174913Z
UID:9175332026-09-27 14:30:00+01:00achurchnearyou
CATEGORIES:
DESCRIPTION:Activities for all ages\, adults and children\, to enjoy our o
 utside space\, relating to the season.  Dress appropriately for the weathe
 r.  All children must have adult supervision.\n\nNo need to book\, just co
 me along!
GEO:-0.233114;51.725513
LOCATION:St. Mary's\, North Mymms
URL:https://www.achurchnearyou.com/church/6791/service-and-events/events/9
 17533/
END:VEVENT
BEGIN:VEVENT
SUMMARY:Wild Worship
DTSTART;TZID=Europe/London:20261025T143000
DTEND;TZID=Europe/London:20261025T160000
DTSTAMP:20260420T174913Z
UID:9175332026-10-25 14:30:00+00:00achurchnearyou
CATEGORIES:
DESCRIPTION:Activities for all ages\, adults and children\, to enjoy our o
 utside space\, relating to the season.  Dress appropriately for the weathe
 r.  All children must have adult supervision.\n\nNo need to book\, just co
 me along!
GEO:-0.233114;51.725513
LOCATION:St. Mary's\, North Mymms
URL:https://www.achurchnearyou.com/church/6791/service-and-events/events/9
 17533/
END:VEVENT
BEGIN:VEVENT
SUMMARY:Wild Worship
DTSTART;TZID=Europe/London:20261122T143000
DTEND;TZID=Europe/London:20261122T160000
DTSTAMP:20260420T174913Z
UID:9175332026-11-22 14:30:00+00:00achurchnearyou
CATEGORIES:
DESCRIPTION:Activities for all ages\, adults and children\, to enjoy our o
 utside space\, relating to the season.  Dress appropriately for the weathe
 r.  All children must have adult supervision.\n\nNo need to book\, just co
 me along!
GEO:-0.233114;51.725513
LOCATION:St. Mary's\, North Mymms
URL:https://www.achurchnearyou.com/church/6791/service-and-events/events/9
 17533/
END:VEVENT
BEGIN:VEVENT
SUMMARY:Wild Worship
DTSTART;TZID=Europe/London:20270228T143000
DTEND;TZID=Europe/London:20270228T160000
DTSTAMP:20260420T174913Z
UID:9175332027-02-28 14:30:00+00:00achurchnearyou
CATEGORIES:
DESCRIPTION:Activities for all ages\, adults and children\, to enjoy our o
 utside space\, relating to the season.  Dress appropriately for the weathe
 r.  All children must have adult supervision.\n\nNo need to book\, just co
 me along!
GEO:-0.233114;51.725513
LOCATION:St. Mary's\, North Mymms
URL:https://www.achurchnearyou.com/church/6791/service-and-events/events/9
 17533/
END:VEVENT
BEGIN:VEVENT
SUMMARY:Wild Worship
DTSTART;TZID=Europe/London:20270328T143000
DTEND;TZID=Europe/London:20270328T160000
DTSTAMP:20260420T174913Z
UID:9175332027-03-28 14:30:00+01:00achurchnearyou
CATEGORIES:
DESCRIPTION:Activities for all ages\, adults and children\, to enjoy our o
 utside space\, relating to the season.  Dress appropriately for the weathe
 r.  All children must have adult supervision.\n\nNo need to book\, just co
 me along!
GEO:-0.233114;51.725513
LOCATION:St. Mary's\, North Mymms
URL:https://www.achurchnearyou.com/church/6791/service-and-events/events/9
 17533/
END:VEVENT
END:VCALENDAR
