BEGIN:VCALENDAR
VERSION:2.0
PRODID:-//achurchnearyou.com//eventfeed//EN
CALSCALE:GREGORIAN
METHOD:PUBLISH
X-WR-TIMEZONE:UTC
BEGIN:VEVENT
SUMMARY:Night Prayer for Maundy Thursday
DTSTART:20250417T204500Z
DTEND:20250417T214500Z
DTSTAMP:20260424T211209Z
UID:11702512025-04-17 20:45:00+00:00achurchnearyou
CATEGORIES:
DESCRIPTION:Traditional sung Night Prayer
GEO:-0.267337;52.226993
LOCATION:St. Neots Parish Church - The Parish of St. Neots with Eynesbury
URL:https://www.achurchnearyou.com/church/6792/service-and-events/events/1
 170251/
END:VEVENT
END:VCALENDAR
