BEGIN:VCALENDAR
VERSION:2.0
PRODID:-//achurchnearyou.com//eventfeed//EN
CALSCALE:GREGORIAN
METHOD:PUBLISH
X-WR-TIMEZONE:UTC
BEGIN:VEVENT
SUMMARY:MacMillan Coffee Morning
DTSTART:20251011T100000Z
DTEND:20251011T120000Z
DTSTAMP:20260424T083154Z
UID:12305542025-10-11 10:00:00+00:00achurchnearyou
CATEGORIES:
DESCRIPTION:Welcome to the MacMillan Coffee Morning at The Church Rooms! J
 oin us for a morning filled with delicious treats\, hot beverages\, and gr
 eat company. This event is the perfect opportunity to catch up with friend
 s\, enjoy some homemade cakes\, and support a fantastic cause. So come alo
 ng\, grab a cup of coffee\, and help us raise funds for MacMillan Cancer S
 upport. We can't wait to see you there!\nJust come along!  Everyone welcom
 e!
GEO:-0.267337;52.226993
LOCATION:St. Neots Parish Church - The Parish of St. Neots with Eynesbury
URL:https://www.achurchnearyou.com/church/6792/service-and-events/events/1
 230554/
END:VEVENT
END:VCALENDAR
