BEGIN:VCALENDAR
VERSION:2.0
PRODID:-//achurchnearyou.com//eventfeed//EN
CALSCALE:GREGORIAN
METHOD:PUBLISH
X-WR-TIMEZONE:UTC
BEGIN:VEVENT
SUMMARY:'The Last Hour' service
DTSTART:20260402T130000Z
DTEND:20260402T140000Z
DTSTAMP:20260423T090007Z
UID:12966482026-04-02 13:00:00+00:00achurchnearyou
CATEGORIES:
DESCRIPTION:A quiet service of prayer and reflection as Jesus faces his la
 st hour before the Cross.
GEO:-0.267337;52.226993
LOCATION:St. Neots Parish Church - The Parish of St. Neots with Eynesbury
URL:https://www.achurchnearyou.com/church/6792/service-and-events/events/1
 296648/
END:VEVENT
END:VCALENDAR
