BEGIN:VCALENDAR
VERSION:2.0
PRODID:-//achurchnearyou.com//eventfeed//EN
CALSCALE:GREGORIAN
METHOD:PUBLISH
X-WR-TIMEZONE:UTC
BEGIN:VEVENT
SUMMARY:Holy week and Easter @ The Good Shepherd
DTSTART:20260329T093000Z
DTEND:20260405T104500Z
DTSTAMP:20260420T012431Z
UID:13170652026-03-29 09:30:00+00:00achurchnearyou
CATEGORIES:
DESCRIPTION:Palm Sunday Service\nSun 29th March\, 10.30 am\npalm crosses a
 nd holy communion\n\nReflections for Holy Week\nMon 30th\, Tues 31st March
 \, Wed 1st April \n7 - 7.45 pm\nservices with guided meditations and time 
 for quiet\n\nMaundy Thursday Holy Communion\nThurs 2nd April\, 8 – 9 pm 
 \n\nGOOD FRIDAY FAMILY ACTIVITIES\nFri 3rd April\, 10 - 11.30 am \nGood Sh
 epherd Church Hall\nEaster-themed activities suitable for \n3 to 11s + cof
 fee & hot cross buns\n\nGood Friday Reflective Service\nFri 3rd April\, 2 
 - 3 pm \nA service of readings\, reflections and music exploring the Good 
 Friday story\n\nEaster Sunday Celebration Service\nSun 5th April\, 10.30 
 – 11.30 am\n followed by sparkling wine + an Easter egg hunt!
GEO:0.008017;51.452714
LOCATION:The Good Shepherd\, Lee
URL:https://www.achurchnearyou.com/church/680/service-and-events/events/13
 17065/
END:VEVENT
END:VCALENDAR
