BEGIN:VCALENDAR
VERSION:2.0
PRODID:-//achurchnearyou.com//eventfeed//EN
CALSCALE:GREGORIAN
METHOD:PUBLISH
X-WR-TIMEZONE:UTC
BEGIN:VEVENT
SUMMARY:Good Friday Meditation Service
DTSTART:20260403T130000Z
DTEND:20260403T140000Z
DTSTAMP:20260424T094604Z
UID:11649712026-04-03 13:00:00+00:00achurchnearyou
CATEGORIES:
DESCRIPTION:A Service for Good Friday with Music and Meditations led by Re
 verend Sarah Walsh
LOCATION:St Martin's\, New Buckenham
URL:https://www.achurchnearyou.com/church/6803/service-and-events/events/1
 164971/
END:VEVENT
END:VCALENDAR
