BEGIN:VCALENDAR
VERSION:2.0
PRODID:-//achurchnearyou.com//eventfeed//EN
CALSCALE:GREGORIAN
METHOD:PUBLISH
X-WR-TIMEZONE:UTC
BEGIN:VEVENT
SUMMARY:Easter Day Service
DTSTART:20250420T100000Z
DTEND:20250420T110000Z
DTSTAMP:20260426T014050Z
UID:11926352025-04-20 10:00:00+00:00achurchnearyou
CATEGORIES:
DESCRIPTION:We regret that the Service at St Mary the Virgin Banham has ha
 d to be cancelled due to lack of Clergy arising from illness.\nThe Church 
 remains open\, ready for private prayer or meditation.\nAll are welcome to
  attend any of the Easter Day Services held within the Quidenham Benefice 
 \nThey are:\nKenninghall (Holy Communion) at 11:00am led by Rev. Sarah Wal
 sh\nNew Buckenham (Holy Communion) at 11:00am led by Canon Lorraine Summer
 s\nOld Buckenham (Holy Communion) at 9:30am led by Rev. Alistair Monkhouse
 \nWilby (Holy Communion) at 9:30am led by Rev. Liz Billett
GEO:1.0354;52.4523
LOCATION:Banham: St Mary the Virgin
URL:https://www.achurchnearyou.com/church/6803/service-and-events/events/1
 192635/
END:VEVENT
END:VCALENDAR
