BEGIN:VCALENDAR
VERSION:2.0
PRODID:-//achurchnearyou.com//eventfeed//EN
CALSCALE:GREGORIAN
METHOD:PUBLISH
X-WR-TIMEZONE:UTC
BEGIN:VEVENT
SUMMARY:GOOD FRIDAY: 14:00 The Liturgy of The Passion of Our Lord
DTSTART:20250418T124500Z
DTEND:20250418T140000Z
DTSTAMP:20260425T042910Z
UID:11896522025-04-18 12:45:00+00:00achurchnearyou
CATEGORIES:
DESCRIPTION:Good Friday is the day when we remember the Crucifixion of Jes
 us\, his death on the cross. Although there is no celebration of the Eucha
 rist on Good Friday\, there is still Communion\, the Aumbry is left empty 
 and open\, Jesus is no longer sacramentally present in the church. The chu
 rch is left desolate and forsaken\, there is no adequate way of recalling 
 the being dead of the Incarnate God.
GEO:-0.289399;51.608302
LOCATION:S Lawrence Little Stanmore  (Whitchurch Lane Canons Park HA8)
URL:https://www.achurchnearyou.com/church/6812/service-and-events/events/1
 189652/
END:VEVENT
END:VCALENDAR
