BEGIN:VCALENDAR
VERSION:2.0
PRODID:-//achurchnearyou.com//eventfeed//EN
CALSCALE:GREGORIAN
METHOD:PUBLISH
X-WR-TIMEZONE:UTC
BEGIN:VEVENT
SUMMARY:HTW (Holy Trinity Women)
DTSTART;TZID=Europe/London:20251211T193000
DTEND;TZID=Europe/London:20251211T210000
DTSTAMP:20260424T160826Z
UID:12598492025-12-11 19:30:00+00:00achurchnearyou
CATEGORIES:
DESCRIPTION:HTW meets at 7.30pm on the 2nd and 4th Thursdays of each month
  during term time in the Lower Parish Hall.\n\nHTW - the meeting place for
  women at Trinity - is a group with a long history. It started 75 years ag
 o as Young Wives\, became Wives' Group and now\, as HTW\, it welcomes all 
 ladies.\n\nThe programme is varied but most terms have a Communion Service
  in Church and an evening of Board Games (Scrabble\, Rummikub etc). In Dec
 ember we have an evening of Carols and Readings by Candlelight to which\nw
 e invite ladies from other Malvern Churches. We have speakers on a variety
  of subjects e.g. Adventures of a Physiotherapist\, The Shops and Business
 es of Barnards Green and Caring for the Malvern Hills and Commons. We have
  evenings when we share and discuss ideas and memories e.g. The Best Way t
 o Relax Is..\, My Favourite Book\, Every Piece of Jewellery Tells a Story 
 - share one of yours and an Inspirational Person.\n\nTea\, coffee and bisc
 uits are served during the evening and in November we usually celebrate th
 e Group's birthday with a lunch at a local venue.\n\nWe support 2 charitie
 s through our Raffle (Versus Arthritis) and Book Table (Sight Concern Malv
 ern).
GEO:-2.330339;52.119332
LOCATION:Holy Trinity Church\, Malvern
URL:https://www.achurchnearyou.com/church/6816/service-and-events/events/1
 259849/
END:VEVENT
END:VCALENDAR
