BEGIN:VCALENDAR
VERSION:2.0
PRODID:-//achurchnearyou.com//eventfeed//EN
CALSCALE:GREGORIAN
METHOD:PUBLISH
X-WR-TIMEZONE:UTC
BEGIN:VEVENT
SUMMARY:Good Friday Devotions
DTSTART:20260403T110000Z
DTEND:20260403T140000Z
DTSTAMP:20260424T083616Z
UID:13046912026-04-03 11:00:00+00:00achurchnearyou
CATEGORIES:
DESCRIPTION:3 hour service of devotions for Good Friday. Everyone is welco
 me to come and go as you wish.
GEO:-2.330339;52.119332
LOCATION:Holy Trinity Church\, Malvern
URL:https://www.achurchnearyou.com/church/6816/service-and-events/events/1
 304691/
END:VEVENT
END:VCALENDAR
