BEGIN:VCALENDAR
VERSION:2.0
PRODID:-//achurchnearyou.com//eventfeed//EN
CALSCALE:GREGORIAN
METHOD:PUBLISH
X-WR-TIMEZONE:UTC
BEGIN:VEVENT
SUMMARY:Maundy Thursday Holy Communion
DTSTART:20260402T183000Z
DTEND:20260402T193000Z
DTSTAMP:20260424T055903Z
UID:13046942026-04-02 18:30:00+00:00achurchnearyou
CATEGORIES:
DESCRIPTION:A Holy Communion service for Maundy Thursday.
GEO:-2.330339;52.119332
LOCATION:Holy Trinity Church\, Malvern
URL:https://www.achurchnearyou.com/church/6816/service-and-events/events/1
 304694/
END:VEVENT
END:VCALENDAR
