BEGIN:VCALENDAR
VERSION:2.0
PRODID:-//achurchnearyou.com//eventfeed//EN
CALSCALE:GREGORIAN
METHOD:PUBLISH
X-WR-TIMEZONE:UTC
BEGIN:VEVENT
SUMMARY:Fr Alaric gets installed as a canon
DTSTART:20250209T153000Z
DTEND:20250209T164500Z
DTSTAMP:20260421T082536Z
UID:11522222025-02-09 15:30:00+00:00achurchnearyou
CATEGORIES:
DESCRIPTION:Fr Alaric is to be made an Honorary Canon\, and the installati
 on service for new honorary canons is on Sunday 9th February at 3.30 pm\, 
 at the Cathedral (evensong). \nAll friends welcome. Parking is available i
 n the Close.
GEO:1.298015;52.631067
LOCATION:Norwich: St George\, Tombland
URL:https://www.achurchnearyou.com/church/6821/service-and-events/events/1
 152222/
END:VEVENT
END:VCALENDAR
