BEGIN:VCALENDAR
VERSION:2.0
PRODID:-//achurchnearyou.com//eventfeed//EN
CALSCALE:GREGORIAN
METHOD:PUBLISH
X-WR-TIMEZONE:UTC
BEGIN:VEVENT
SUMMARY:Funeral of David Houghton
DTSTART:20260106T123000Z
DTEND:20260106T160000Z
DTSTAMP:20260420T113142Z
UID:12782112026-01-06 12:30:00+00:00achurchnearyou
CATEGORIES:
DESCRIPTION:David's funeral will take place at Earlham Cemetery\, not in S
 t George's church: this has been chosen to be a fitting replication of the
  recent funeral for David and Marianne's son. But the whole family of St G
 eorge's is encouraged to come and support Marianne and remember our belove
 d brother David\, who was formerly a lecturer at the UEA.\nAfterwards\, pl
 ease join the wake at The Old Rectory\, North Walsham Road\, Crostwick NR1
 2 7BG. Lifts and car sharing will be sorted out: please bring a car if you
  can offer lifts.
LOCATION:Earlham Crematorium
URL:https://www.achurchnearyou.com/church/6821/service-and-events/events/1
 278211/
END:VEVENT
END:VCALENDAR
