BEGIN:VCALENDAR
VERSION:2.0
PRODID:-//achurchnearyou.com//eventfeed//EN
CALSCALE:GREGORIAN
METHOD:PUBLISH
X-WR-TIMEZONE:UTC
BEGIN:VEVENT
SUMMARY:Sung Eucharist with Blessing of Palms at St Giles on the Hill
DTSTART:20260329T090000Z
DTEND:20260329T103000Z
DTSTAMP:20260420T054351Z
UID:13053542026-03-29 09:00:00+00:00achurchnearyou
CATEGORIES:
DESCRIPTION:This year we are having a tri-community benefice service on Pa
 lm Sunday. It will be at St Giles.\n\nThe service begins at 10 a.m. \n(NB 
 note earlier start).\n\nThe service starts with an outdoor procession. Tho
 se not able to join the procession should arrive in Church by about 10:15.
LOCATION:Norwich: St Giles on the Hill
URL:https://www.achurchnearyou.com/church/6821/service-and-events/events/1
 305354/
END:VEVENT
END:VCALENDAR
