BEGIN:VCALENDAR
VERSION:2.0
PRODID:-//achurchnearyou.com//eventfeed//EN
CALSCALE:GREGORIAN
METHOD:PUBLISH
X-WR-TIMEZONE:UTC
BEGIN:VEVENT
SUMMARY:Sunday Worship
DTSTART;TZID=Europe/London:20260405T111500
DTEND;TZID=Europe/London:20260405T124500
DTSTAMP:20260422T041949Z
UID:10899051775384100.0achurchnearyou
CATEGORIES:
DESCRIPTION:We gather each Sunday to worship God. Our service is informal 
 and friendly and includes prayers\, music\, Bible readings\, a message\, o
 pportunity to share what's going on in our lives and time to get to know e
 ach other better over tea and coffee. All are welcome to join us.\n\nPleas
 e see our website for other events and news.
GEO:-1.757988;53.778352
LOCATION:Bowling: St Stephen
URL:https://www.achurchnearyou.com/church/6845/service-and-events/events/1
 089905/
END:VEVENT
BEGIN:VEVENT
SUMMARY:Sunday Worship
DTSTART;TZID=Europe/London:20260412T111500
DTEND;TZID=Europe/London:20260412T124500
DTSTAMP:20260422T041949Z
UID:10899051775988900.0achurchnearyou
CATEGORIES:
DESCRIPTION:We gather each Sunday to worship God. Our service is informal 
 and friendly and includes prayers\, music\, Bible readings\, a message\, o
 pportunity to share what's going on in our lives and time to get to know e
 ach other better over tea and coffee. All are welcome to join us.\n\nPleas
 e see our website for other events and news.
GEO:-1.757988;53.778352
LOCATION:Bowling: St Stephen
URL:https://www.achurchnearyou.com/church/6845/service-and-events/events/1
 089905/
END:VEVENT
BEGIN:VEVENT
SUMMARY:Sunday Worship
DTSTART;TZID=Europe/London:20260419T111500
DTEND;TZID=Europe/London:20260419T124500
DTSTAMP:20260422T041949Z
UID:10899051776593700.0achurchnearyou
CATEGORIES:
DESCRIPTION:We gather each Sunday to worship God. Our service is informal 
 and friendly and includes prayers\, music\, Bible readings\, a message\, o
 pportunity to share what's going on in our lives and time to get to know e
 ach other better over tea and coffee. All are welcome to join us.\n\nPleas
 e see our website for other events and news.
GEO:-1.757988;53.778352
LOCATION:Bowling: St Stephen
URL:https://www.achurchnearyou.com/church/6845/service-and-events/events/1
 089905/
END:VEVENT
BEGIN:VEVENT
SUMMARY:Sunday Worship
DTSTART;TZID=Europe/London:20260426T111500
DTEND;TZID=Europe/London:20260426T124500
DTSTAMP:20260422T041949Z
UID:10899051777198500.0achurchnearyou
CATEGORIES:
DESCRIPTION:We gather each Sunday to worship God. Our service is informal 
 and friendly and includes prayers\, music\, Bible readings\, a message\, o
 pportunity to share what's going on in our lives and time to get to know e
 ach other better over tea and coffee. All are welcome to join us.\n\nPleas
 e see our website for other events and news.
GEO:-1.757988;53.778352
LOCATION:Bowling: St Stephen
URL:https://www.achurchnearyou.com/church/6845/service-and-events/events/1
 089905/
END:VEVENT
BEGIN:VEVENT
SUMMARY:Sunday Worship
DTSTART;TZID=Europe/London:20260503T111500
DTEND;TZID=Europe/London:20260503T124500
DTSTAMP:20260422T041949Z
UID:10899051777803300.0achurchnearyou
CATEGORIES:
DESCRIPTION:We gather each Sunday to worship God. Our service is informal 
 and friendly and includes prayers\, music\, Bible readings\, a message\, o
 pportunity to share what's going on in our lives and time to get to know e
 ach other better over tea and coffee. All are welcome to join us.\n\nPleas
 e see our website for other events and news.
GEO:-1.757988;53.778352
LOCATION:Bowling: St Stephen
URL:https://www.achurchnearyou.com/church/6845/service-and-events/events/1
 089905/
END:VEVENT
BEGIN:VEVENT
SUMMARY:Sunday Worship
DTSTART;TZID=Europe/London:20260510T111500
DTEND;TZID=Europe/London:20260510T124500
DTSTAMP:20260422T041949Z
UID:10899051778408100.0achurchnearyou
CATEGORIES:
DESCRIPTION:We gather each Sunday to worship God. Our service is informal 
 and friendly and includes prayers\, music\, Bible readings\, a message\, o
 pportunity to share what's going on in our lives and time to get to know e
 ach other better over tea and coffee. All are welcome to join us.\n\nPleas
 e see our website for other events and news.
GEO:-1.757988;53.778352
LOCATION:Bowling: St Stephen
URL:https://www.achurchnearyou.com/church/6845/service-and-events/events/1
 089905/
END:VEVENT
BEGIN:VEVENT
SUMMARY:Sunday Worship
DTSTART;TZID=Europe/London:20260517T111500
DTEND;TZID=Europe/London:20260517T124500
DTSTAMP:20260422T041949Z
UID:10899051779012900.0achurchnearyou
CATEGORIES:
DESCRIPTION:We gather each Sunday to worship God. Our service is informal 
 and friendly and includes prayers\, music\, Bible readings\, a message\, o
 pportunity to share what's going on in our lives and time to get to know e
 ach other better over tea and coffee. All are welcome to join us.\n\nPleas
 e see our website for other events and news.
GEO:-1.757988;53.778352
LOCATION:Bowling: St Stephen
URL:https://www.achurchnearyou.com/church/6845/service-and-events/events/1
 089905/
END:VEVENT
BEGIN:VEVENT
SUMMARY:Sunday Worship
DTSTART;TZID=Europe/London:20260524T111500
DTEND;TZID=Europe/London:20260524T124500
DTSTAMP:20260422T041949Z
UID:10899051779617700.0achurchnearyou
CATEGORIES:
DESCRIPTION:We gather each Sunday to worship God. Our service is informal 
 and friendly and includes prayers\, music\, Bible readings\, a message\, o
 pportunity to share what's going on in our lives and time to get to know e
 ach other better over tea and coffee. All are welcome to join us.\n\nPleas
 e see our website for other events and news.
GEO:-1.757988;53.778352
LOCATION:Bowling: St Stephen
URL:https://www.achurchnearyou.com/church/6845/service-and-events/events/1
 089905/
END:VEVENT
BEGIN:VEVENT
SUMMARY:Sunday Worship
DTSTART;TZID=Europe/London:20260531T111500
DTEND;TZID=Europe/London:20260531T124500
DTSTAMP:20260422T041949Z
UID:10899051780222500.0achurchnearyou
CATEGORIES:
DESCRIPTION:We gather each Sunday to worship God. Our service is informal 
 and friendly and includes prayers\, music\, Bible readings\, a message\, o
 pportunity to share what's going on in our lives and time to get to know e
 ach other better over tea and coffee. All are welcome to join us.\n\nPleas
 e see our website for other events and news.
GEO:-1.757988;53.778352
LOCATION:Bowling: St Stephen
URL:https://www.achurchnearyou.com/church/6845/service-and-events/events/1
 089905/
END:VEVENT
BEGIN:VEVENT
SUMMARY:Sunday Worship
DTSTART;TZID=Europe/London:20260607T111500
DTEND;TZID=Europe/London:20260607T124500
DTSTAMP:20260422T041949Z
UID:10899051780827300.0achurchnearyou
CATEGORIES:
DESCRIPTION:We gather each Sunday to worship God. Our service is informal 
 and friendly and includes prayers\, music\, Bible readings\, a message\, o
 pportunity to share what's going on in our lives and time to get to know e
 ach other better over tea and coffee. All are welcome to join us.\n\nPleas
 e see our website for other events and news.
GEO:-1.757988;53.778352
LOCATION:Bowling: St Stephen
URL:https://www.achurchnearyou.com/church/6845/service-and-events/events/1
 089905/
END:VEVENT
BEGIN:VEVENT
SUMMARY:Sunday Worship
DTSTART;TZID=Europe/London:20260614T111500
DTEND;TZID=Europe/London:20260614T124500
DTSTAMP:20260422T041949Z
UID:10899051781432100.0achurchnearyou
CATEGORIES:
DESCRIPTION:We gather each Sunday to worship God. Our service is informal 
 and friendly and includes prayers\, music\, Bible readings\, a message\, o
 pportunity to share what's going on in our lives and time to get to know e
 ach other better over tea and coffee. All are welcome to join us.\n\nPleas
 e see our website for other events and news.
GEO:-1.757988;53.778352
LOCATION:Bowling: St Stephen
URL:https://www.achurchnearyou.com/church/6845/service-and-events/events/1
 089905/
END:VEVENT
BEGIN:VEVENT
SUMMARY:Sunday Worship
DTSTART;TZID=Europe/London:20260621T111500
DTEND;TZID=Europe/London:20260621T124500
DTSTAMP:20260422T041949Z
UID:10899051782036900.0achurchnearyou
CATEGORIES:
DESCRIPTION:We gather each Sunday to worship God. Our service is informal 
 and friendly and includes prayers\, music\, Bible readings\, a message\, o
 pportunity to share what's going on in our lives and time to get to know e
 ach other better over tea and coffee. All are welcome to join us.\n\nPleas
 e see our website for other events and news.
GEO:-1.757988;53.778352
LOCATION:Bowling: St Stephen
URL:https://www.achurchnearyou.com/church/6845/service-and-events/events/1
 089905/
END:VEVENT
BEGIN:VEVENT
SUMMARY:Sunday Worship
DTSTART;TZID=Europe/London:20260628T111500
DTEND;TZID=Europe/London:20260628T124500
DTSTAMP:20260422T041949Z
UID:10899051782641700.0achurchnearyou
CATEGORIES:
DESCRIPTION:We gather each Sunday to worship God. Our service is informal 
 and friendly and includes prayers\, music\, Bible readings\, a message\, o
 pportunity to share what's going on in our lives and time to get to know e
 ach other better over tea and coffee. All are welcome to join us.\n\nPleas
 e see our website for other events and news.
GEO:-1.757988;53.778352
LOCATION:Bowling: St Stephen
URL:https://www.achurchnearyou.com/church/6845/service-and-events/events/1
 089905/
END:VEVENT
BEGIN:VEVENT
SUMMARY:Sunday Worship
DTSTART;TZID=Europe/London:20260705T111500
DTEND;TZID=Europe/London:20260705T124500
DTSTAMP:20260422T041949Z
UID:10899051783246500.0achurchnearyou
CATEGORIES:
DESCRIPTION:We gather each Sunday to worship God. Our service is informal 
 and friendly and includes prayers\, music\, Bible readings\, a message\, o
 pportunity to share what's going on in our lives and time to get to know e
 ach other better over tea and coffee. All are welcome to join us.\n\nPleas
 e see our website for other events and news.
GEO:-1.757988;53.778352
LOCATION:Bowling: St Stephen
URL:https://www.achurchnearyou.com/church/6845/service-and-events/events/1
 089905/
END:VEVENT
BEGIN:VEVENT
SUMMARY:Sunday Worship
DTSTART;TZID=Europe/London:20260712T111500
DTEND;TZID=Europe/London:20260712T124500
DTSTAMP:20260422T041949Z
UID:10899051783851300.0achurchnearyou
CATEGORIES:
DESCRIPTION:We gather each Sunday to worship God. Our service is informal 
 and friendly and includes prayers\, music\, Bible readings\, a message\, o
 pportunity to share what's going on in our lives and time to get to know e
 ach other better over tea and coffee. All are welcome to join us.\n\nPleas
 e see our website for other events and news.
GEO:-1.757988;53.778352
LOCATION:Bowling: St Stephen
URL:https://www.achurchnearyou.com/church/6845/service-and-events/events/1
 089905/
END:VEVENT
BEGIN:VEVENT
SUMMARY:Sunday Worship
DTSTART;TZID=Europe/London:20260719T111500
DTEND;TZID=Europe/London:20260719T124500
DTSTAMP:20260422T041949Z
UID:10899051784456100.0achurchnearyou
CATEGORIES:
DESCRIPTION:We gather each Sunday to worship God. Our service is informal 
 and friendly and includes prayers\, music\, Bible readings\, a message\, o
 pportunity to share what's going on in our lives and time to get to know e
 ach other better over tea and coffee. All are welcome to join us.\n\nPleas
 e see our website for other events and news.
GEO:-1.757988;53.778352
LOCATION:Bowling: St Stephen
URL:https://www.achurchnearyou.com/church/6845/service-and-events/events/1
 089905/
END:VEVENT
BEGIN:VEVENT
SUMMARY:Sunday Worship
DTSTART;TZID=Europe/London:20260726T111500
DTEND;TZID=Europe/London:20260726T124500
DTSTAMP:20260422T041949Z
UID:10899051785060900.0achurchnearyou
CATEGORIES:
DESCRIPTION:We gather each Sunday to worship God. Our service is informal 
 and friendly and includes prayers\, music\, Bible readings\, a message\, o
 pportunity to share what's going on in our lives and time to get to know e
 ach other better over tea and coffee. All are welcome to join us.\n\nPleas
 e see our website for other events and news.
GEO:-1.757988;53.778352
LOCATION:Bowling: St Stephen
URL:https://www.achurchnearyou.com/church/6845/service-and-events/events/1
 089905/
END:VEVENT
BEGIN:VEVENT
SUMMARY:Sunday Worship
DTSTART;TZID=Europe/London:20260802T111500
DTEND;TZID=Europe/London:20260802T124500
DTSTAMP:20260422T041949Z
UID:10899051785665700.0achurchnearyou
CATEGORIES:
DESCRIPTION:We gather each Sunday to worship God. Our service is informal 
 and friendly and includes prayers\, music\, Bible readings\, a message\, o
 pportunity to share what's going on in our lives and time to get to know e
 ach other better over tea and coffee. All are welcome to join us.\n\nPleas
 e see our website for other events and news.
GEO:-1.757988;53.778352
LOCATION:Bowling: St Stephen
URL:https://www.achurchnearyou.com/church/6845/service-and-events/events/1
 089905/
END:VEVENT
BEGIN:VEVENT
SUMMARY:Sunday Worship
DTSTART;TZID=Europe/London:20260809T111500
DTEND;TZID=Europe/London:20260809T124500
DTSTAMP:20260422T041949Z
UID:10899051786270500.0achurchnearyou
CATEGORIES:
DESCRIPTION:We gather each Sunday to worship God. Our service is informal 
 and friendly and includes prayers\, music\, Bible readings\, a message\, o
 pportunity to share what's going on in our lives and time to get to know e
 ach other better over tea and coffee. All are welcome to join us.\n\nPleas
 e see our website for other events and news.
GEO:-1.757988;53.778352
LOCATION:Bowling: St Stephen
URL:https://www.achurchnearyou.com/church/6845/service-and-events/events/1
 089905/
END:VEVENT
BEGIN:VEVENT
SUMMARY:Sunday Worship
DTSTART;TZID=Europe/London:20260816T111500
DTEND;TZID=Europe/London:20260816T124500
DTSTAMP:20260422T041949Z
UID:10899051786875300.0achurchnearyou
CATEGORIES:
DESCRIPTION:We gather each Sunday to worship God. Our service is informal 
 and friendly and includes prayers\, music\, Bible readings\, a message\, o
 pportunity to share what's going on in our lives and time to get to know e
 ach other better over tea and coffee. All are welcome to join us.\n\nPleas
 e see our website for other events and news.
GEO:-1.757988;53.778352
LOCATION:Bowling: St Stephen
URL:https://www.achurchnearyou.com/church/6845/service-and-events/events/1
 089905/
END:VEVENT
BEGIN:VEVENT
SUMMARY:Sunday Worship
DTSTART;TZID=Europe/London:20260823T111500
DTEND;TZID=Europe/London:20260823T124500
DTSTAMP:20260422T041949Z
UID:10899051787480100.0achurchnearyou
CATEGORIES:
DESCRIPTION:We gather each Sunday to worship God. Our service is informal 
 and friendly and includes prayers\, music\, Bible readings\, a message\, o
 pportunity to share what's going on in our lives and time to get to know e
 ach other better over tea and coffee. All are welcome to join us.\n\nPleas
 e see our website for other events and news.
GEO:-1.757988;53.778352
LOCATION:Bowling: St Stephen
URL:https://www.achurchnearyou.com/church/6845/service-and-events/events/1
 089905/
END:VEVENT
BEGIN:VEVENT
SUMMARY:Sunday Worship
DTSTART;TZID=Europe/London:20260830T111500
DTEND;TZID=Europe/London:20260830T124500
DTSTAMP:20260422T041949Z
UID:10899051788084900.0achurchnearyou
CATEGORIES:
DESCRIPTION:We gather each Sunday to worship God. Our service is informal 
 and friendly and includes prayers\, music\, Bible readings\, a message\, o
 pportunity to share what's going on in our lives and time to get to know e
 ach other better over tea and coffee. All are welcome to join us.\n\nPleas
 e see our website for other events and news.
GEO:-1.757988;53.778352
LOCATION:Bowling: St Stephen
URL:https://www.achurchnearyou.com/church/6845/service-and-events/events/1
 089905/
END:VEVENT
BEGIN:VEVENT
SUMMARY:Sunday Worship
DTSTART;TZID=Europe/London:20260906T111500
DTEND;TZID=Europe/London:20260906T124500
DTSTAMP:20260422T041949Z
UID:10899051788689700.0achurchnearyou
CATEGORIES:
DESCRIPTION:We gather each Sunday to worship God. Our service is informal 
 and friendly and includes prayers\, music\, Bible readings\, a message\, o
 pportunity to share what's going on in our lives and time to get to know e
 ach other better over tea and coffee. All are welcome to join us.\n\nPleas
 e see our website for other events and news.
GEO:-1.757988;53.778352
LOCATION:Bowling: St Stephen
URL:https://www.achurchnearyou.com/church/6845/service-and-events/events/1
 089905/
END:VEVENT
BEGIN:VEVENT
SUMMARY:Sunday Worship
DTSTART;TZID=Europe/London:20260913T111500
DTEND;TZID=Europe/London:20260913T124500
DTSTAMP:20260422T041949Z
UID:10899051789294500.0achurchnearyou
CATEGORIES:
DESCRIPTION:We gather each Sunday to worship God. Our service is informal 
 and friendly and includes prayers\, music\, Bible readings\, a message\, o
 pportunity to share what's going on in our lives and time to get to know e
 ach other better over tea and coffee. All are welcome to join us.\n\nPleas
 e see our website for other events and news.
GEO:-1.757988;53.778352
LOCATION:Bowling: St Stephen
URL:https://www.achurchnearyou.com/church/6845/service-and-events/events/1
 089905/
END:VEVENT
BEGIN:VEVENT
SUMMARY:Sunday Worship
DTSTART;TZID=Europe/London:20260920T111500
DTEND;TZID=Europe/London:20260920T124500
DTSTAMP:20260422T041949Z
UID:10899051789899300.0achurchnearyou
CATEGORIES:
DESCRIPTION:We gather each Sunday to worship God. Our service is informal 
 and friendly and includes prayers\, music\, Bible readings\, a message\, o
 pportunity to share what's going on in our lives and time to get to know e
 ach other better over tea and coffee. All are welcome to join us.\n\nPleas
 e see our website for other events and news.
GEO:-1.757988;53.778352
LOCATION:Bowling: St Stephen
URL:https://www.achurchnearyou.com/church/6845/service-and-events/events/1
 089905/
END:VEVENT
BEGIN:VEVENT
SUMMARY:Sunday Worship
DTSTART;TZID=Europe/London:20260927T111500
DTEND;TZID=Europe/London:20260927T124500
DTSTAMP:20260422T041949Z
UID:10899051790504100.0achurchnearyou
CATEGORIES:
DESCRIPTION:We gather each Sunday to worship God. Our service is informal 
 and friendly and includes prayers\, music\, Bible readings\, a message\, o
 pportunity to share what's going on in our lives and time to get to know e
 ach other better over tea and coffee. All are welcome to join us.\n\nPleas
 e see our website for other events and news.
GEO:-1.757988;53.778352
LOCATION:Bowling: St Stephen
URL:https://www.achurchnearyou.com/church/6845/service-and-events/events/1
 089905/
END:VEVENT
END:VCALENDAR
