BEGIN:VCALENDAR
VERSION:2.0
PRODID:-//achurchnearyou.com//eventfeed//EN
CALSCALE:GREGORIAN
METHOD:PUBLISH
X-WR-TIMEZONE:UTC
BEGIN:VEVENT
SUMMARY:Stewart’s Farewell Service Holy Communion
DTSTART:20250316T093000Z
DTEND:20250316T110000Z
DTSTAMP:20260419T145157Z
UID:11644552025-03-16 09:30:00+00:00achurchnearyou
CATEGORIES:
DESCRIPTION:16th March		Lent 2 \nStewart’s Farewell Service Holy Communi
 on 9.30am (TMc & SH)\nThere is only one service in the Benefice this Sunda
 y\, so that we can all join together to say farewell to Rev Stewart Hartle
 y before he leaves the area. The service will be held at 9.30am at Leathle
 y at  which Stewart will preach.\n\nPlease keep him in your prayers as he 
 prepares to move.
LOCATION:Leathley: St Oswald
URL:https://www.achurchnearyou.com/church/6869/service-and-events/events/1
 164455/
END:VEVENT
END:VCALENDAR
