BEGIN:VCALENDAR
VERSION:2.0
PRODID:-//achurchnearyou.com//eventfeed//EN
CALSCALE:GREGORIAN
METHOD:PUBLISH
X-WR-TIMEZONE:UTC
BEGIN:VEVENT
SUMMARY:All our Church Services
DTSTART;TZID=Europe/London:20260405T000000
DTEND;TZID=Europe/London:20260405T010000
DTSTAMP:20260420T014444Z
UID:9245931775343600.0achurchnearyou
CATEGORIES:
DESCRIPTION:For details of all our forthcoming church services please clic
 k MORE INFO.
GEO:-2.374946;54.084796
LOCATION:Austwick: The Epiphany\nClapham w Keasden: St James\nEldroth\nSt 
 Matthew's Church\, Keasden
URL:https://www.achurchnearyou.com/benefice/46-072/page/80940/
END:VEVENT
BEGIN:VEVENT
SUMMARY:Holy Communion
DTSTART;TZID=Europe/London:20260405T093000
DTEND;TZID=Europe/London:20260405T102000
DTSTAMP:20260420T014444Z
UID:4598711775377800.0achurchnearyou
CATEGORIES:
DESCRIPTION:A service using Common Worship in modern language
GEO:-2.374946;54.084796
LOCATION:Eldroth
URL:https://www.achurchnearyou.com/church/6872/service-and-events/events/4
 59871/
END:VEVENT
BEGIN:VEVENT
SUMMARY:All our Church Services
DTSTART;TZID=Europe/London:20260412T000000
DTEND;TZID=Europe/London:20260412T010000
DTSTAMP:20260420T014444Z
UID:9245931775948400.0achurchnearyou
CATEGORIES:
DESCRIPTION:For details of all our forthcoming church services please clic
 k MORE INFO.
GEO:-2.374946;54.084796
LOCATION:Austwick: The Epiphany\nClapham w Keasden: St James\nEldroth\nSt 
 Matthew's Church\, Keasden
URL:https://www.achurchnearyou.com/benefice/46-072/page/80940/
END:VEVENT
BEGIN:VEVENT
SUMMARY:All our Church Services
DTSTART;TZID=Europe/London:20260419T000000
DTEND;TZID=Europe/London:20260419T010000
DTSTAMP:20260420T014444Z
UID:9245931776553200.0achurchnearyou
CATEGORIES:
DESCRIPTION:For details of all our forthcoming church services please clic
 k MORE INFO.
GEO:-2.374946;54.084796
LOCATION:Austwick: The Epiphany\nClapham w Keasden: St James\nEldroth\nSt 
 Matthew's Church\, Keasden
URL:https://www.achurchnearyou.com/benefice/46-072/page/80940/
END:VEVENT
BEGIN:VEVENT
SUMMARY:Evensong
DTSTART;TZID=Europe/London:20260419T183000
DTEND;TZID=Europe/London:20260419T192000
DTSTAMP:20260420T014444Z
UID:4598721776619800.0achurchnearyou
CATEGORIES:
DESCRIPTION:A said evening prayer service
GEO:-2.374946;54.084796
LOCATION:Eldroth
URL:https://www.achurchnearyou.com/church/6872/service-and-events/events/4
 59872/
END:VEVENT
BEGIN:VEVENT
SUMMARY:All our Church Services
DTSTART;TZID=Europe/London:20260426T000000
DTEND;TZID=Europe/London:20260426T010000
DTSTAMP:20260420T014444Z
UID:9245931777158000.0achurchnearyou
CATEGORIES:
DESCRIPTION:For details of all our forthcoming church services please clic
 k MORE INFO.
GEO:-2.374946;54.084796
LOCATION:Austwick: The Epiphany\nClapham w Keasden: St James\nEldroth\nSt 
 Matthew's Church\, Keasden
URL:https://www.achurchnearyou.com/benefice/46-072/page/80940/
END:VEVENT
BEGIN:VEVENT
SUMMARY:All our Church Services
DTSTART;TZID=Europe/London:20260503T000000
DTEND;TZID=Europe/London:20260503T010000
DTSTAMP:20260420T014444Z
UID:9245931777762800.0achurchnearyou
CATEGORIES:
DESCRIPTION:For details of all our forthcoming church services please clic
 k MORE INFO.
GEO:-2.374946;54.084796
LOCATION:Austwick: The Epiphany\nClapham w Keasden: St James\nEldroth\nSt 
 Matthew's Church\, Keasden
URL:https://www.achurchnearyou.com/benefice/46-072/page/80940/
END:VEVENT
BEGIN:VEVENT
SUMMARY:Holy Communion
DTSTART;TZID=Europe/London:20260503T093000
DTEND;TZID=Europe/London:20260503T102000
DTSTAMP:20260420T014444Z
UID:4598711777797000.0achurchnearyou
CATEGORIES:
DESCRIPTION:A service using Common Worship in modern language
GEO:-2.374946;54.084796
LOCATION:Eldroth
URL:https://www.achurchnearyou.com/church/6872/service-and-events/events/4
 59871/
END:VEVENT
BEGIN:VEVENT
SUMMARY:All our Church Services
DTSTART;TZID=Europe/London:20260510T000000
DTEND;TZID=Europe/London:20260510T010000
DTSTAMP:20260420T014444Z
UID:9245931778367600.0achurchnearyou
CATEGORIES:
DESCRIPTION:For details of all our forthcoming church services please clic
 k MORE INFO.
GEO:-2.374946;54.084796
LOCATION:Austwick: The Epiphany\nClapham w Keasden: St James\nEldroth\nSt 
 Matthew's Church\, Keasden
URL:https://www.achurchnearyou.com/benefice/46-072/page/80940/
END:VEVENT
BEGIN:VEVENT
SUMMARY:All our Church Services
DTSTART;TZID=Europe/London:20260517T000000
DTEND;TZID=Europe/London:20260517T010000
DTSTAMP:20260420T014444Z
UID:9245931778972400.0achurchnearyou
CATEGORIES:
DESCRIPTION:For details of all our forthcoming church services please clic
 k MORE INFO.
GEO:-2.374946;54.084796
LOCATION:Austwick: The Epiphany\nClapham w Keasden: St James\nEldroth\nSt 
 Matthew's Church\, Keasden
URL:https://www.achurchnearyou.com/benefice/46-072/page/80940/
END:VEVENT
BEGIN:VEVENT
SUMMARY:Evensong
DTSTART;TZID=Europe/London:20260517T183000
DTEND;TZID=Europe/London:20260517T192000
DTSTAMP:20260420T014444Z
UID:4598721779039000.0achurchnearyou
CATEGORIES:
DESCRIPTION:A said evening prayer service
GEO:-2.374946;54.084796
LOCATION:Eldroth
URL:https://www.achurchnearyou.com/church/6872/service-and-events/events/4
 59872/
END:VEVENT
BEGIN:VEVENT
SUMMARY:All our Church Services
DTSTART;TZID=Europe/London:20260524T000000
DTEND;TZID=Europe/London:20260524T010000
DTSTAMP:20260420T014444Z
UID:9245931779577200.0achurchnearyou
CATEGORIES:
DESCRIPTION:For details of all our forthcoming church services please clic
 k MORE INFO.
GEO:-2.374946;54.084796
LOCATION:Austwick: The Epiphany\nClapham w Keasden: St James\nEldroth\nSt 
 Matthew's Church\, Keasden
URL:https://www.achurchnearyou.com/benefice/46-072/page/80940/
END:VEVENT
BEGIN:VEVENT
SUMMARY:All our Church Services
DTSTART;TZID=Europe/London:20260531T000000
DTEND;TZID=Europe/London:20260531T010000
DTSTAMP:20260420T014444Z
UID:9245931780182000.0achurchnearyou
CATEGORIES:
DESCRIPTION:For details of all our forthcoming church services please clic
 k MORE INFO.
GEO:-2.374946;54.084796
LOCATION:Austwick: The Epiphany\nClapham w Keasden: St James\nEldroth\nSt 
 Matthew's Church\, Keasden
URL:https://www.achurchnearyou.com/benefice/46-072/page/80940/
END:VEVENT
BEGIN:VEVENT
SUMMARY:All our Church Services
DTSTART;TZID=Europe/London:20260607T000000
DTEND;TZID=Europe/London:20260607T010000
DTSTAMP:20260420T014444Z
UID:9245931780786800.0achurchnearyou
CATEGORIES:
DESCRIPTION:For details of all our forthcoming church services please clic
 k MORE INFO.
GEO:-2.374946;54.084796
LOCATION:Austwick: The Epiphany\nClapham w Keasden: St James\nEldroth\nSt 
 Matthew's Church\, Keasden
URL:https://www.achurchnearyou.com/benefice/46-072/page/80940/
END:VEVENT
BEGIN:VEVENT
SUMMARY:Holy Communion
DTSTART;TZID=Europe/London:20260607T093000
DTEND;TZID=Europe/London:20260607T102000
DTSTAMP:20260420T014444Z
UID:4598711780821000.0achurchnearyou
CATEGORIES:
DESCRIPTION:A service using Common Worship in modern language
GEO:-2.374946;54.084796
LOCATION:Eldroth
URL:https://www.achurchnearyou.com/church/6872/service-and-events/events/4
 59871/
END:VEVENT
BEGIN:VEVENT
SUMMARY:All our Church Services
DTSTART;TZID=Europe/London:20260614T000000
DTEND;TZID=Europe/London:20260614T010000
DTSTAMP:20260420T014444Z
UID:9245931781391600.0achurchnearyou
CATEGORIES:
DESCRIPTION:For details of all our forthcoming church services please clic
 k MORE INFO.
GEO:-2.374946;54.084796
LOCATION:Austwick: The Epiphany\nClapham w Keasden: St James\nEldroth\nSt 
 Matthew's Church\, Keasden
URL:https://www.achurchnearyou.com/benefice/46-072/page/80940/
END:VEVENT
BEGIN:VEVENT
SUMMARY:All our Church Services
DTSTART;TZID=Europe/London:20260621T000000
DTEND;TZID=Europe/London:20260621T010000
DTSTAMP:20260420T014444Z
UID:9245931781996400.0achurchnearyou
CATEGORIES:
DESCRIPTION:For details of all our forthcoming church services please clic
 k MORE INFO.
GEO:-2.374946;54.084796
LOCATION:Austwick: The Epiphany\nClapham w Keasden: St James\nEldroth\nSt 
 Matthew's Church\, Keasden
URL:https://www.achurchnearyou.com/benefice/46-072/page/80940/
END:VEVENT
BEGIN:VEVENT
SUMMARY:Evensong
DTSTART;TZID=Europe/London:20260621T183000
DTEND;TZID=Europe/London:20260621T192000
DTSTAMP:20260420T014444Z
UID:4598721782063000.0achurchnearyou
CATEGORIES:
DESCRIPTION:A said evening prayer service
GEO:-2.374946;54.084796
LOCATION:Eldroth
URL:https://www.achurchnearyou.com/church/6872/service-and-events/events/4
 59872/
END:VEVENT
BEGIN:VEVENT
SUMMARY:All our Church Services
DTSTART;TZID=Europe/London:20260628T000000
DTEND;TZID=Europe/London:20260628T010000
DTSTAMP:20260420T014444Z
UID:9245931782601200.0achurchnearyou
CATEGORIES:
DESCRIPTION:For details of all our forthcoming church services please clic
 k MORE INFO.
GEO:-2.374946;54.084796
LOCATION:Austwick: The Epiphany\nClapham w Keasden: St James\nEldroth\nSt 
 Matthew's Church\, Keasden
URL:https://www.achurchnearyou.com/benefice/46-072/page/80940/
END:VEVENT
BEGIN:VEVENT
SUMMARY:All our Church Services
DTSTART;TZID=Europe/London:20260705T000000
DTEND;TZID=Europe/London:20260705T010000
DTSTAMP:20260420T014444Z
UID:9245931783206000.0achurchnearyou
CATEGORIES:
DESCRIPTION:For details of all our forthcoming church services please clic
 k MORE INFO.
GEO:-2.374946;54.084796
LOCATION:Austwick: The Epiphany\nClapham w Keasden: St James\nEldroth\nSt 
 Matthew's Church\, Keasden
URL:https://www.achurchnearyou.com/benefice/46-072/page/80940/
END:VEVENT
BEGIN:VEVENT
SUMMARY:Holy Communion
DTSTART;TZID=Europe/London:20260705T093000
DTEND;TZID=Europe/London:20260705T102000
DTSTAMP:20260420T014444Z
UID:4598711783240200.0achurchnearyou
CATEGORIES:
DESCRIPTION:A service using Common Worship in modern language
GEO:-2.374946;54.084796
LOCATION:Eldroth
URL:https://www.achurchnearyou.com/church/6872/service-and-events/events/4
 59871/
END:VEVENT
BEGIN:VEVENT
SUMMARY:All our Church Services
DTSTART;TZID=Europe/London:20260712T000000
DTEND;TZID=Europe/London:20260712T010000
DTSTAMP:20260420T014444Z
UID:9245931783810800.0achurchnearyou
CATEGORIES:
DESCRIPTION:For details of all our forthcoming church services please clic
 k MORE INFO.
GEO:-2.374946;54.084796
LOCATION:Austwick: The Epiphany\nClapham w Keasden: St James\nEldroth\nSt 
 Matthew's Church\, Keasden
URL:https://www.achurchnearyou.com/benefice/46-072/page/80940/
END:VEVENT
BEGIN:VEVENT
SUMMARY:All our Church Services
DTSTART;TZID=Europe/London:20260719T000000
DTEND;TZID=Europe/London:20260719T010000
DTSTAMP:20260420T014444Z
UID:9245931784415600.0achurchnearyou
CATEGORIES:
DESCRIPTION:For details of all our forthcoming church services please clic
 k MORE INFO.
GEO:-2.374946;54.084796
LOCATION:Austwick: The Epiphany\nClapham w Keasden: St James\nEldroth\nSt 
 Matthew's Church\, Keasden
URL:https://www.achurchnearyou.com/benefice/46-072/page/80940/
END:VEVENT
BEGIN:VEVENT
SUMMARY:Evensong
DTSTART;TZID=Europe/London:20260719T183000
DTEND;TZID=Europe/London:20260719T192000
DTSTAMP:20260420T014444Z
UID:4598721784482200.0achurchnearyou
CATEGORIES:
DESCRIPTION:A said evening prayer service
GEO:-2.374946;54.084796
LOCATION:Eldroth
URL:https://www.achurchnearyou.com/church/6872/service-and-events/events/4
 59872/
END:VEVENT
BEGIN:VEVENT
SUMMARY:All our Church Services
DTSTART;TZID=Europe/London:20260726T000000
DTEND;TZID=Europe/London:20260726T010000
DTSTAMP:20260420T014444Z
UID:9245931785020400.0achurchnearyou
CATEGORIES:
DESCRIPTION:For details of all our forthcoming church services please clic
 k MORE INFO.
GEO:-2.374946;54.084796
LOCATION:Austwick: The Epiphany\nClapham w Keasden: St James\nEldroth\nSt 
 Matthew's Church\, Keasden
URL:https://www.achurchnearyou.com/benefice/46-072/page/80940/
END:VEVENT
BEGIN:VEVENT
SUMMARY:All our Church Services
DTSTART;TZID=Europe/London:20260802T000000
DTEND;TZID=Europe/London:20260802T010000
DTSTAMP:20260420T014444Z
UID:9245931785625200.0achurchnearyou
CATEGORIES:
DESCRIPTION:For details of all our forthcoming church services please clic
 k MORE INFO.
GEO:-2.374946;54.084796
LOCATION:Austwick: The Epiphany\nClapham w Keasden: St James\nEldroth\nSt 
 Matthew's Church\, Keasden
URL:https://www.achurchnearyou.com/benefice/46-072/page/80940/
END:VEVENT
BEGIN:VEVENT
SUMMARY:Holy Communion
DTSTART;TZID=Europe/London:20260802T093000
DTEND;TZID=Europe/London:20260802T102000
DTSTAMP:20260420T014444Z
UID:4598711785659400.0achurchnearyou
CATEGORIES:
DESCRIPTION:A service using Common Worship in modern language
GEO:-2.374946;54.084796
LOCATION:Eldroth
URL:https://www.achurchnearyou.com/church/6872/service-and-events/events/4
 59871/
END:VEVENT
BEGIN:VEVENT
SUMMARY:All our Church Services
DTSTART;TZID=Europe/London:20260809T000000
DTEND;TZID=Europe/London:20260809T010000
DTSTAMP:20260420T014444Z
UID:9245931786230000.0achurchnearyou
CATEGORIES:
DESCRIPTION:For details of all our forthcoming church services please clic
 k MORE INFO.
GEO:-2.374946;54.084796
LOCATION:Austwick: The Epiphany\nClapham w Keasden: St James\nEldroth\nSt 
 Matthew's Church\, Keasden
URL:https://www.achurchnearyou.com/benefice/46-072/page/80940/
END:VEVENT
BEGIN:VEVENT
SUMMARY:All our Church Services
DTSTART;TZID=Europe/London:20260816T000000
DTEND;TZID=Europe/London:20260816T010000
DTSTAMP:20260420T014444Z
UID:9245931786834800.0achurchnearyou
CATEGORIES:
DESCRIPTION:For details of all our forthcoming church services please clic
 k MORE INFO.
GEO:-2.374946;54.084796
LOCATION:Austwick: The Epiphany\nClapham w Keasden: St James\nEldroth\nSt 
 Matthew's Church\, Keasden
URL:https://www.achurchnearyou.com/benefice/46-072/page/80940/
END:VEVENT
BEGIN:VEVENT
SUMMARY:Evensong
DTSTART;TZID=Europe/London:20260816T183000
DTEND;TZID=Europe/London:20260816T192000
DTSTAMP:20260420T014444Z
UID:4598721786901400.0achurchnearyou
CATEGORIES:
DESCRIPTION:A said evening prayer service
GEO:-2.374946;54.084796
LOCATION:Eldroth
URL:https://www.achurchnearyou.com/church/6872/service-and-events/events/4
 59872/
END:VEVENT
BEGIN:VEVENT
SUMMARY:All our Church Services
DTSTART;TZID=Europe/London:20260823T000000
DTEND;TZID=Europe/London:20260823T010000
DTSTAMP:20260420T014444Z
UID:9245931787439600.0achurchnearyou
CATEGORIES:
DESCRIPTION:For details of all our forthcoming church services please clic
 k MORE INFO.
GEO:-2.374946;54.084796
LOCATION:Austwick: The Epiphany\nClapham w Keasden: St James\nEldroth\nSt 
 Matthew's Church\, Keasden
URL:https://www.achurchnearyou.com/benefice/46-072/page/80940/
END:VEVENT
BEGIN:VEVENT
SUMMARY:All our Church Services
DTSTART;TZID=Europe/London:20260830T000000
DTEND;TZID=Europe/London:20260830T010000
DTSTAMP:20260420T014444Z
UID:9245931788044400.0achurchnearyou
CATEGORIES:
DESCRIPTION:For details of all our forthcoming church services please clic
 k MORE INFO.
GEO:-2.374946;54.084796
LOCATION:Austwick: The Epiphany\nClapham w Keasden: St James\nEldroth\nSt 
 Matthew's Church\, Keasden
URL:https://www.achurchnearyou.com/benefice/46-072/page/80940/
END:VEVENT
BEGIN:VEVENT
SUMMARY:All our Church Services
DTSTART;TZID=Europe/London:20260906T000000
DTEND;TZID=Europe/London:20260906T010000
DTSTAMP:20260420T014444Z
UID:9245931788649200.0achurchnearyou
CATEGORIES:
DESCRIPTION:For details of all our forthcoming church services please clic
 k MORE INFO.
GEO:-2.374946;54.084796
LOCATION:Austwick: The Epiphany\nClapham w Keasden: St James\nEldroth\nSt 
 Matthew's Church\, Keasden
URL:https://www.achurchnearyou.com/benefice/46-072/page/80940/
END:VEVENT
BEGIN:VEVENT
SUMMARY:Holy Communion
DTSTART;TZID=Europe/London:20260906T093000
DTEND;TZID=Europe/London:20260906T102000
DTSTAMP:20260420T014444Z
UID:4598711788683400.0achurchnearyou
CATEGORIES:
DESCRIPTION:A service using Common Worship in modern language
GEO:-2.374946;54.084796
LOCATION:Eldroth
URL:https://www.achurchnearyou.com/church/6872/service-and-events/events/4
 59871/
END:VEVENT
BEGIN:VEVENT
SUMMARY:All our Church Services
DTSTART;TZID=Europe/London:20260913T000000
DTEND;TZID=Europe/London:20260913T010000
DTSTAMP:20260420T014444Z
UID:9245931789254000.0achurchnearyou
CATEGORIES:
DESCRIPTION:For details of all our forthcoming church services please clic
 k MORE INFO.
GEO:-2.374946;54.084796
LOCATION:Austwick: The Epiphany\nClapham w Keasden: St James\nEldroth\nSt 
 Matthew's Church\, Keasden
URL:https://www.achurchnearyou.com/benefice/46-072/page/80940/
END:VEVENT
BEGIN:VEVENT
SUMMARY:All our Church Services
DTSTART;TZID=Europe/London:20260920T000000
DTEND;TZID=Europe/London:20260920T010000
DTSTAMP:20260420T014444Z
UID:9245931789858800.0achurchnearyou
CATEGORIES:
DESCRIPTION:For details of all our forthcoming church services please clic
 k MORE INFO.
GEO:-2.374946;54.084796
LOCATION:Austwick: The Epiphany\nClapham w Keasden: St James\nEldroth\nSt 
 Matthew's Church\, Keasden
URL:https://www.achurchnearyou.com/benefice/46-072/page/80940/
END:VEVENT
BEGIN:VEVENT
SUMMARY:Evensong
DTSTART;TZID=Europe/London:20260920T183000
DTEND;TZID=Europe/London:20260920T192000
DTSTAMP:20260420T014444Z
UID:4598721789925400.0achurchnearyou
CATEGORIES:
DESCRIPTION:A said evening prayer service
GEO:-2.374946;54.084796
LOCATION:Eldroth
URL:https://www.achurchnearyou.com/church/6872/service-and-events/events/4
 59872/
END:VEVENT
BEGIN:VEVENT
SUMMARY:All our Church Services
DTSTART;TZID=Europe/London:20260927T000000
DTEND;TZID=Europe/London:20260927T010000
DTSTAMP:20260420T014444Z
UID:9245931790463600.0achurchnearyou
CATEGORIES:
DESCRIPTION:For details of all our forthcoming church services please clic
 k MORE INFO.
GEO:-2.374946;54.084796
LOCATION:Austwick: The Epiphany\nClapham w Keasden: St James\nEldroth\nSt 
 Matthew's Church\, Keasden
URL:https://www.achurchnearyou.com/benefice/46-072/page/80940/
END:VEVENT
END:VCALENDAR
