BEGIN:VCALENDAR
VERSION:2.0
PRODID:-//achurchnearyou.com//eventfeed//EN
CALSCALE:GREGORIAN
METHOD:PUBLISH
X-WR-TIMEZONE:UTC
BEGIN:VEVENT
SUMMARY:Pancake Day Party
DTSTART:20250304T170000Z
DTEND:20250304T180000Z
DTSTAMP:20260424T222633Z
UID:11594562025-03-04 17:00:00+00:00achurchnearyou
CATEGORIES:
DESCRIPTION:Get ready for the start of Lent with a traditional Pancake Day
  Party. Join us in the church hall between 5pm and 6pm for a range of savo
 ury and sweet pancakes. Everyone is welcome. There's a suggested donation 
 of £1-£2 but we would just enjoy spending the afternoon together enjoyin
 g pancakes.
GEO:-1.671928;53.811079
LOCATION:St John's Church\, Farsley
URL:https://stjohnsfarsley.org.uk/news/events-announced-for-start-of-lent.
 php
END:VEVENT
END:VCALENDAR
