BEGIN:VCALENDAR
VERSION:2.0
PRODID:-//achurchnearyou.com//eventfeed//EN
CALSCALE:GREGORIAN
METHOD:PUBLISH
X-WR-TIMEZONE:UTC
BEGIN:VEVENT
SUMMARY:Children's Christmas Party
DTSTART:20251222T120000Z
DTEND:20251222T140000Z
DTSTAMP:20260423T235811Z
UID:12727102025-12-22 12:00:00+00:00achurchnearyou
CATEGORIES:
DESCRIPTION:It's party time for the youngest members of our church family!
 \n\nWe're celebrating with all our children from toddlers' group\, ABC Chu
 rch and Sunday School at lunchtime on Monday 22nd December.\n\nJoin us fro
 m 12noon and start the festive celebrations with us!
GEO:-1.671928;53.811079
LOCATION:St John's Church\, Farsley
URL:https://www.achurchnearyou.com/church/6876/service-and-events/events/1
 272710/
END:VEVENT
END:VCALENDAR
