BEGIN:VCALENDAR
VERSION:2.0
PRODID:-//achurchnearyou.com//eventfeed//EN
CALSCALE:GREGORIAN
METHOD:PUBLISH
X-WR-TIMEZONE:UTC
BEGIN:VEVENT
SUMMARY:Carols around Farsley's pubs and bars
DTSTART:20251220T190000Z
DTEND:20251220T200000Z
DTSTAMP:20260423T235731Z
UID:12727412025-12-20 19:00:00+00:00achurchnearyou
CATEGORIES:
DESCRIPTION:It's the weekend before Christmas and Farsley will be bustling
  with festive party-goers. We will be singing carols around many of the pu
 bs and bars\, meeting in The Village wine bar at 7pm. Look out for us and 
 do join in with all your favourite carols!
LOCATION:Farsley's Pubs and Bars
URL:https://www.achurchnearyou.com/church/6876/service-and-events/events/1
 272741/
END:VEVENT
END:VCALENDAR
