BEGIN:VCALENDAR
VERSION:2.0
PRODID:-//achurchnearyou.com//eventfeed//EN
CALSCALE:GREGORIAN
METHOD:PUBLISH
X-WR-TIMEZONE:UTC
BEGIN:VEVENT
SUMMARY:Meditation at the Cross
DTSTART:20260403T130000Z
DTEND:20260403T140000Z
DTSTAMP:20260423T113949Z
UID:13216982026-04-03 13:00:00+00:00achurchnearyou
CATEGORIES:
DESCRIPTION:Good Friday is the day we remember the pain Jesus felt when he
  was on the cross - a punishment he bore for all our sake.\nAt 2pm you are
  invited to join us in church for a Meditation at the Cross as we reflect 
 on the events of Good Friday and consider what it means for us today.
GEO:-1.671928;53.811079
LOCATION:St John's Church\, Farsley
URL:https://www.achurchnearyou.com/church/6876/service-and-events/events/1
 321698/
END:VEVENT
END:VCALENDAR
