BEGIN:VCALENDAR
VERSION:2.0
PRODID:-//achurchnearyou.com//eventfeed//EN
CALSCALE:GREGORIAN
METHOD:PUBLISH
X-WR-TIMEZONE:UTC
BEGIN:VEVENT
SUMMARY:Organ Recital
DTSTART:20250620T180000Z
DTEND:20250620T200000Z
DTSTAMP:20260425T142502Z
UID:12012342025-06-20 18:00:00+00:00achurchnearyou
CATEGORIES:
DESCRIPTION:BENJAMIN SAUNDERS of Giggleswick\nInternational concert organi
 st\n\n‘He gives the music life.’ - Jurnal für die orgel\n‘He posses
 ses that rare gift of a personal and individual touch in organ music.’ -
  The Listener\n\nSuggested donations - £10\nWine and nibbles
GEO:-2.289518;54.072396
LOCATION:Giggleswick: St Alkelda's
URL:https://castlebergchurches.uk/events/list/
END:VEVENT
END:VCALENDAR
