BEGIN:VCALENDAR
VERSION:2.0
PRODID:-//achurchnearyou.com//eventfeed//EN
CALSCALE:GREGORIAN
METHOD:PUBLISH
X-WR-TIMEZONE:UTC
BEGIN:VEVENT
SUMMARY:Epiphany Carol Service
DTSTART;TZID=Europe/London:20260104T180000
DTEND;TZID=Europe/London:20260104T190000
DTSTAMP:20260424T180831Z
UID:12766592026-01-04 18:00:00+00:00achurchnearyou
CATEGORIES:
DESCRIPTION:Celebrating the glory of the Epiphany with traditional carols\
 , readings and anthems. A choral Evensong accompanied by St Alkelda's Choi
 r.\n\nAll are welcome
GEO:-2.289518;54.072396
LOCATION:Giggleswick: St Alkelda's
URL:https://castlebergchurches.uk/event/epiphany-carols/
END:VEVENT
END:VCALENDAR
