BEGIN:VCALENDAR
VERSION:2.0
PRODID:-//achurchnearyou.com//eventfeed//EN
CALSCALE:GREGORIAN
METHOD:PUBLISH
X-WR-TIMEZONE:UTC
BEGIN:VEVENT
SUMMARY:Church Garden Party
DTSTART:20260613T130000Z
DTEND:20260613T150000Z
DTSTAMP:20260424T073118Z
UID:8443082026-06-13 13:00:00+00:00achurchnearyou
CATEGORIES:
DESCRIPTION:This much-loved event is held in the grounds of the ancient pa
 rish church of St Alkelda's\, Giggleswick. Refreshments\, stalls\, raffle.
 .. This much-loved event is not to be missed. We look forward to seeing yo
 u there.
LOCATION:St Alkelda's Church
URL:https://www.achurchnearyou.com/church/6880/service-and-events/events/8
 44308/
END:VEVENT
END:VCALENDAR
