BEGIN:VCALENDAR
VERSION:2.0
PRODID:-//achurchnearyou.com//eventfeed//EN
CALSCALE:GREGORIAN
METHOD:PUBLISH
X-WR-TIMEZONE:UTC
BEGIN:VEVENT
SUMMARY:Organ Recital
DTSTART:20250621T140000Z
DTEND:20250621T150000Z
DTSTAMP:20260426T014518Z
UID:12055642025-06-21 14:00:00+00:00achurchnearyou
CATEGORIES:
DESCRIPTION:DAVID FLOOD\, ORGANIST CANTERBURY CATHEDRAL (RETIRED)\nDavid h
 as had a 42 year career as organist at both Canterbury and Lincoln Cathedr
 als and is joined by \nAlexander Clarke (13)\, local Organ Scholar for the
  annual Hebden Organ Recital on the wonderful Harrison and Harrison organ.
GEO:-1.961711;54.062663
LOCATION:Hebden: St Peter
URL:https://www.achurchnearyou.com/church/6888/service-and-events/events/1
 205564/
END:VEVENT
END:VCALENDAR
