BEGIN:VCALENDAR
VERSION:2.0
PRODID:-//achurchnearyou.com//eventfeed//EN
CALSCALE:GREGORIAN
METHOD:PUBLISH
X-WR-TIMEZONE:UTC
BEGIN:VEVENT
SUMMARY:Benefice Communion Service
DTSTART:20250831T093000Z
DTEND:20250831T103000Z
DTSTAMP:20260421T064022Z
UID:3991112025-08-31 09:30:00+00:00achurchnearyou
CATEGORIES:
DESCRIPTION:Combined service with Clapham\, Austwick and Eldroth Churches.
GEO:-2.424328;54.09458
LOCATION:St Matthew's Church\, Keasden
URL:https://www.achurchnearyou.com/church/6897/service-and-events/events/3
 99111/
END:VEVENT
END:VCALENDAR
