BEGIN:VCALENDAR
VERSION:2.0
PRODID:-//achurchnearyou.com//eventfeed//EN
CALSCALE:GREGORIAN
METHOD:PUBLISH
X-WR-TIMEZONE:UTC
BEGIN:VEVENT
SUMMARY:Parish Fete at Clapham Church
DTSTART:20250726T090000Z
DTEND:20250726T130000Z
DTSTAMP:20260421T102753Z
UID:5884232025-07-26 09:00:00+00:00achurchnearyou
CATEGORIES:
DESCRIPTION:A traditional summer event where Keasden and Clapham church wi
 ll be fundraising.\nPlease help by baking or donating items for the tombol
 a stall.\nGrand Draw tickets are on sale. \nFor further details - please c
 ontact Jules (07816 826481).\nCome along on the day for lots of fun!
LOCATION:St James' Church\, Clapham
URL:https://www.achurchnearyou.com/church/6897/service-and-events/events/5
 88423/
END:VEVENT
END:VCALENDAR
