BEGIN:VCALENDAR
VERSION:2.0
PRODID:-//achurchnearyou.com//eventfeed//EN
CALSCALE:GREGORIAN
METHOD:PUBLISH
X-WR-TIMEZONE:UTC
BEGIN:VEVENT
SUMMARY:Act of Remembrance
DTSTART:20251109T144500Z
DTEND:20251109T154500Z
DTSTAMP:20260421T024819Z
UID:5960862025-11-09 14:45:00+00:00achurchnearyou
CATEGORIES:
DESCRIPTION:An act of Remembrance at the war memorial outside church follo
 wed by a short\, simple service.
GEO:-2.424328;54.09458
LOCATION:St Matthew's Church\, Keasden
URL:https://www.achurchnearyou.com/church/6897/service-and-events/events/5
 96086/
END:VEVENT
END:VCALENDAR
