BEGIN:VCALENDAR
VERSION:2.0
PRODID:-//achurchnearyou.com//eventfeed//EN
CALSCALE:GREGORIAN
METHOD:PUBLISH
X-WR-TIMEZONE:UTC
BEGIN:VEVENT
SUMMARY:Christmas Day Family Communion
DTSTART:20251225T110000Z
DTEND:20251225T120000Z
DTSTAMP:20260421T003336Z
UID:6229242025-12-25 11:00:00+00:00achurchnearyou
CATEGORIES:
DESCRIPTION:A time to worship on Christmas Day
GEO:-2.424328;54.09458
LOCATION:St Matthew's Church\, Keasden
URL:https://www.achurchnearyou.com/church/6897/service-and-events/events/6
 22924/
END:VEVENT
END:VCALENDAR
