BEGIN:VCALENDAR
VERSION:2.0
PRODID:-//achurchnearyou.com//eventfeed//EN
CALSCALE:GREGORIAN
METHOD:PUBLISH
X-WR-TIMEZONE:UTC
BEGIN:VEVENT
SUMMARY:Sunday Morning Worship
DTSTART;TZID=Europe/London:20260419T111500
DTEND;TZID=Europe/London:20260419T124500
DTSTAMP:20260419T164838Z
UID:12168042026-04-19 11:15:00+01:00achurchnearyou
CATEGORIES:
DESCRIPTION:We worship every week in our Churches for a service of Holy Co
 mmunion. All are welcome.\n\nOn the first Sunday of each month though\, bo
 th congregations come together for 'Sunday Special' a joint service for al
 l the family.  These alternate between our two buildings\, so please check
  the other post for dates and locations.
GEO:-1.763353;53.784765
LOCATION:All Saints
URL:https://www.achurchnearyou.com/church/6905/service-and-events/events/1
 216804/
END:VEVENT
BEGIN:VEVENT
SUMMARY:Sunday Morning Worship
DTSTART;TZID=Europe/London:20260426T111500
DTEND;TZID=Europe/London:20260426T124500
DTSTAMP:20260419T164838Z
UID:12168042026-04-26 11:15:00+01:00achurchnearyou
CATEGORIES:
DESCRIPTION:We worship every week in our Churches for a service of Holy Co
 mmunion. All are welcome.\n\nOn the first Sunday of each month though\, bo
 th congregations come together for 'Sunday Special' a joint service for al
 l the family.  These alternate between our two buildings\, so please check
  the other post for dates and locations.
GEO:-1.763353;53.784765
LOCATION:All Saints
URL:https://www.achurchnearyou.com/church/6905/service-and-events/events/1
 216804/
END:VEVENT
BEGIN:VEVENT
SUMMARY:Sunday Morning Worship
DTSTART;TZID=Europe/London:20260510T111500
DTEND;TZID=Europe/London:20260510T124500
DTSTAMP:20260419T164838Z
UID:12168042026-05-10 11:15:00+01:00achurchnearyou
CATEGORIES:
DESCRIPTION:We worship every week in our Churches for a service of Holy Co
 mmunion. All are welcome.\n\nOn the first Sunday of each month though\, bo
 th congregations come together for 'Sunday Special' a joint service for al
 l the family.  These alternate between our two buildings\, so please check
  the other post for dates and locations.
GEO:-1.763353;53.784765
LOCATION:All Saints
URL:https://www.achurchnearyou.com/church/6905/service-and-events/events/1
 216804/
END:VEVENT
BEGIN:VEVENT
SUMMARY:Sunday Morning Worship
DTSTART;TZID=Europe/London:20260517T111500
DTEND;TZID=Europe/London:20260517T124500
DTSTAMP:20260419T164838Z
UID:12168042026-05-17 11:15:00+01:00achurchnearyou
CATEGORIES:
DESCRIPTION:We worship every week in our Churches for a service of Holy Co
 mmunion. All are welcome.\n\nOn the first Sunday of each month though\, bo
 th congregations come together for 'Sunday Special' a joint service for al
 l the family.  These alternate between our two buildings\, so please check
  the other post for dates and locations.
GEO:-1.763353;53.784765
LOCATION:All Saints
URL:https://www.achurchnearyou.com/church/6905/service-and-events/events/1
 216804/
END:VEVENT
BEGIN:VEVENT
SUMMARY:Sunday Morning Worship
DTSTART;TZID=Europe/London:20260524T111500
DTEND;TZID=Europe/London:20260524T124500
DTSTAMP:20260419T164838Z
UID:12168042026-05-24 11:15:00+01:00achurchnearyou
CATEGORIES:
DESCRIPTION:We worship every week in our Churches for a service of Holy Co
 mmunion. All are welcome.\n\nOn the first Sunday of each month though\, bo
 th congregations come together for 'Sunday Special' a joint service for al
 l the family.  These alternate between our two buildings\, so please check
  the other post for dates and locations.
GEO:-1.763353;53.784765
LOCATION:All Saints
URL:https://www.achurchnearyou.com/church/6905/service-and-events/events/1
 216804/
END:VEVENT
BEGIN:VEVENT
SUMMARY:Sunday Morning Worship
DTSTART;TZID=Europe/London:20260531T111500
DTEND;TZID=Europe/London:20260531T124500
DTSTAMP:20260419T164838Z
UID:12168042026-05-31 11:15:00+01:00achurchnearyou
CATEGORIES:
DESCRIPTION:We worship every week in our Churches for a service of Holy Co
 mmunion. All are welcome.\n\nOn the first Sunday of each month though\, bo
 th congregations come together for 'Sunday Special' a joint service for al
 l the family.  These alternate between our two buildings\, so please check
  the other post for dates and locations.
GEO:-1.763353;53.784765
LOCATION:All Saints
URL:https://www.achurchnearyou.com/church/6905/service-and-events/events/1
 216804/
END:VEVENT
BEGIN:VEVENT
SUMMARY:Sunday Morning Worship
DTSTART;TZID=Europe/London:20260614T111500
DTEND;TZID=Europe/London:20260614T124500
DTSTAMP:20260419T164838Z
UID:12168042026-06-14 11:15:00+01:00achurchnearyou
CATEGORIES:
DESCRIPTION:We worship every week in our Churches for a service of Holy Co
 mmunion. All are welcome.\n\nOn the first Sunday of each month though\, bo
 th congregations come together for 'Sunday Special' a joint service for al
 l the family.  These alternate between our two buildings\, so please check
  the other post for dates and locations.
GEO:-1.763353;53.784765
LOCATION:All Saints
URL:https://www.achurchnearyou.com/church/6905/service-and-events/events/1
 216804/
END:VEVENT
BEGIN:VEVENT
SUMMARY:Sunday Morning Worship
DTSTART;TZID=Europe/London:20260621T111500
DTEND;TZID=Europe/London:20260621T124500
DTSTAMP:20260419T164838Z
UID:12168042026-06-21 11:15:00+01:00achurchnearyou
CATEGORIES:
DESCRIPTION:We worship every week in our Churches for a service of Holy Co
 mmunion. All are welcome.\n\nOn the first Sunday of each month though\, bo
 th congregations come together for 'Sunday Special' a joint service for al
 l the family.  These alternate between our two buildings\, so please check
  the other post for dates and locations.
GEO:-1.763353;53.784765
LOCATION:All Saints
URL:https://www.achurchnearyou.com/church/6905/service-and-events/events/1
 216804/
END:VEVENT
BEGIN:VEVENT
SUMMARY:Sunday Morning Worship
DTSTART;TZID=Europe/London:20260628T111500
DTEND;TZID=Europe/London:20260628T124500
DTSTAMP:20260419T164838Z
UID:12168042026-06-28 11:15:00+01:00achurchnearyou
CATEGORIES:
DESCRIPTION:We worship every week in our Churches for a service of Holy Co
 mmunion. All are welcome.\n\nOn the first Sunday of each month though\, bo
 th congregations come together for 'Sunday Special' a joint service for al
 l the family.  These alternate between our two buildings\, so please check
  the other post for dates and locations.
GEO:-1.763353;53.784765
LOCATION:All Saints
URL:https://www.achurchnearyou.com/church/6905/service-and-events/events/1
 216804/
END:VEVENT
BEGIN:VEVENT
SUMMARY:Sunday Morning Worship
DTSTART;TZID=Europe/London:20260712T111500
DTEND;TZID=Europe/London:20260712T124500
DTSTAMP:20260419T164838Z
UID:12168042026-07-12 11:15:00+01:00achurchnearyou
CATEGORIES:
DESCRIPTION:We worship every week in our Churches for a service of Holy Co
 mmunion. All are welcome.\n\nOn the first Sunday of each month though\, bo
 th congregations come together for 'Sunday Special' a joint service for al
 l the family.  These alternate between our two buildings\, so please check
  the other post for dates and locations.
GEO:-1.763353;53.784765
LOCATION:All Saints
URL:https://www.achurchnearyou.com/church/6905/service-and-events/events/1
 216804/
END:VEVENT
BEGIN:VEVENT
SUMMARY:Sunday Morning Worship
DTSTART;TZID=Europe/London:20260719T111500
DTEND;TZID=Europe/London:20260719T124500
DTSTAMP:20260419T164838Z
UID:12168042026-07-19 11:15:00+01:00achurchnearyou
CATEGORIES:
DESCRIPTION:We worship every week in our Churches for a service of Holy Co
 mmunion. All are welcome.\n\nOn the first Sunday of each month though\, bo
 th congregations come together for 'Sunday Special' a joint service for al
 l the family.  These alternate between our two buildings\, so please check
  the other post for dates and locations.
GEO:-1.763353;53.784765
LOCATION:All Saints
URL:https://www.achurchnearyou.com/church/6905/service-and-events/events/1
 216804/
END:VEVENT
BEGIN:VEVENT
SUMMARY:Sunday Morning Worship
DTSTART;TZID=Europe/London:20260726T111500
DTEND;TZID=Europe/London:20260726T124500
DTSTAMP:20260419T164838Z
UID:12168042026-07-26 11:15:00+01:00achurchnearyou
CATEGORIES:
DESCRIPTION:We worship every week in our Churches for a service of Holy Co
 mmunion. All are welcome.\n\nOn the first Sunday of each month though\, bo
 th congregations come together for 'Sunday Special' a joint service for al
 l the family.  These alternate between our two buildings\, so please check
  the other post for dates and locations.
GEO:-1.763353;53.784765
LOCATION:All Saints
URL:https://www.achurchnearyou.com/church/6905/service-and-events/events/1
 216804/
END:VEVENT
BEGIN:VEVENT
SUMMARY:Sunday Morning Worship
DTSTART;TZID=Europe/London:20260809T111500
DTEND;TZID=Europe/London:20260809T124500
DTSTAMP:20260419T164838Z
UID:12168042026-08-09 11:15:00+01:00achurchnearyou
CATEGORIES:
DESCRIPTION:We worship every week in our Churches for a service of Holy Co
 mmunion. All are welcome.\n\nOn the first Sunday of each month though\, bo
 th congregations come together for 'Sunday Special' a joint service for al
 l the family.  These alternate between our two buildings\, so please check
  the other post for dates and locations.
GEO:-1.763353;53.784765
LOCATION:All Saints
URL:https://www.achurchnearyou.com/church/6905/service-and-events/events/1
 216804/
END:VEVENT
BEGIN:VEVENT
SUMMARY:Sunday Morning Worship
DTSTART;TZID=Europe/London:20260816T111500
DTEND;TZID=Europe/London:20260816T124500
DTSTAMP:20260419T164838Z
UID:12168042026-08-16 11:15:00+01:00achurchnearyou
CATEGORIES:
DESCRIPTION:We worship every week in our Churches for a service of Holy Co
 mmunion. All are welcome.\n\nOn the first Sunday of each month though\, bo
 th congregations come together for 'Sunday Special' a joint service for al
 l the family.  These alternate between our two buildings\, so please check
  the other post for dates and locations.
GEO:-1.763353;53.784765
LOCATION:All Saints
URL:https://www.achurchnearyou.com/church/6905/service-and-events/events/1
 216804/
END:VEVENT
BEGIN:VEVENT
SUMMARY:Sunday Morning Worship
DTSTART;TZID=Europe/London:20260823T111500
DTEND;TZID=Europe/London:20260823T124500
DTSTAMP:20260419T164838Z
UID:12168042026-08-23 11:15:00+01:00achurchnearyou
CATEGORIES:
DESCRIPTION:We worship every week in our Churches for a service of Holy Co
 mmunion. All are welcome.\n\nOn the first Sunday of each month though\, bo
 th congregations come together for 'Sunday Special' a joint service for al
 l the family.  These alternate between our two buildings\, so please check
  the other post for dates and locations.
GEO:-1.763353;53.784765
LOCATION:All Saints
URL:https://www.achurchnearyou.com/church/6905/service-and-events/events/1
 216804/
END:VEVENT
BEGIN:VEVENT
SUMMARY:Sunday Morning Worship
DTSTART;TZID=Europe/London:20260830T111500
DTEND;TZID=Europe/London:20260830T124500
DTSTAMP:20260419T164838Z
UID:12168042026-08-30 11:15:00+01:00achurchnearyou
CATEGORIES:
DESCRIPTION:We worship every week in our Churches for a service of Holy Co
 mmunion. All are welcome.\n\nOn the first Sunday of each month though\, bo
 th congregations come together for 'Sunday Special' a joint service for al
 l the family.  These alternate between our two buildings\, so please check
  the other post for dates and locations.
GEO:-1.763353;53.784765
LOCATION:All Saints
URL:https://www.achurchnearyou.com/church/6905/service-and-events/events/1
 216804/
END:VEVENT
BEGIN:VEVENT
SUMMARY:Sunday Morning Worship
DTSTART;TZID=Europe/London:20260913T111500
DTEND;TZID=Europe/London:20260913T124500
DTSTAMP:20260419T164838Z
UID:12168042026-09-13 11:15:00+01:00achurchnearyou
CATEGORIES:
DESCRIPTION:We worship every week in our Churches for a service of Holy Co
 mmunion. All are welcome.\n\nOn the first Sunday of each month though\, bo
 th congregations come together for 'Sunday Special' a joint service for al
 l the family.  These alternate between our two buildings\, so please check
  the other post for dates and locations.
GEO:-1.763353;53.784765
LOCATION:All Saints
URL:https://www.achurchnearyou.com/church/6905/service-and-events/events/1
 216804/
END:VEVENT
BEGIN:VEVENT
SUMMARY:Sunday Morning Worship
DTSTART;TZID=Europe/London:20260920T111500
DTEND;TZID=Europe/London:20260920T124500
DTSTAMP:20260419T164838Z
UID:12168042026-09-20 11:15:00+01:00achurchnearyou
CATEGORIES:
DESCRIPTION:We worship every week in our Churches for a service of Holy Co
 mmunion. All are welcome.\n\nOn the first Sunday of each month though\, bo
 th congregations come together for 'Sunday Special' a joint service for al
 l the family.  These alternate between our two buildings\, so please check
  the other post for dates and locations.
GEO:-1.763353;53.784765
LOCATION:All Saints
URL:https://www.achurchnearyou.com/church/6905/service-and-events/events/1
 216804/
END:VEVENT
BEGIN:VEVENT
SUMMARY:Sunday Morning Worship
DTSTART;TZID=Europe/London:20260927T111500
DTEND;TZID=Europe/London:20260927T124500
DTSTAMP:20260419T164838Z
UID:12168042026-09-27 11:15:00+01:00achurchnearyou
CATEGORIES:
DESCRIPTION:We worship every week in our Churches for a service of Holy Co
 mmunion. All are welcome.\n\nOn the first Sunday of each month though\, bo
 th congregations come together for 'Sunday Special' a joint service for al
 l the family.  These alternate between our two buildings\, so please check
  the other post for dates and locations.
GEO:-1.763353;53.784765
LOCATION:All Saints
URL:https://www.achurchnearyou.com/church/6905/service-and-events/events/1
 216804/
END:VEVENT
BEGIN:VEVENT
SUMMARY:Sunday Morning Worship
DTSTART;TZID=Europe/London:20261011T111500
DTEND;TZID=Europe/London:20261011T124500
DTSTAMP:20260419T164838Z
UID:12168042026-10-11 11:15:00+01:00achurchnearyou
CATEGORIES:
DESCRIPTION:We worship every week in our Churches for a service of Holy Co
 mmunion. All are welcome.\n\nOn the first Sunday of each month though\, bo
 th congregations come together for 'Sunday Special' a joint service for al
 l the family.  These alternate between our two buildings\, so please check
  the other post for dates and locations.
GEO:-1.763353;53.784765
LOCATION:All Saints
URL:https://www.achurchnearyou.com/church/6905/service-and-events/events/1
 216804/
END:VEVENT
BEGIN:VEVENT
SUMMARY:Sunday Morning Worship
DTSTART;TZID=Europe/London:20261018T111500
DTEND;TZID=Europe/London:20261018T124500
DTSTAMP:20260419T164838Z
UID:12168042026-10-18 11:15:00+01:00achurchnearyou
CATEGORIES:
DESCRIPTION:We worship every week in our Churches for a service of Holy Co
 mmunion. All are welcome.\n\nOn the first Sunday of each month though\, bo
 th congregations come together for 'Sunday Special' a joint service for al
 l the family.  These alternate between our two buildings\, so please check
  the other post for dates and locations.
GEO:-1.763353;53.784765
LOCATION:All Saints
URL:https://www.achurchnearyou.com/church/6905/service-and-events/events/1
 216804/
END:VEVENT
BEGIN:VEVENT
SUMMARY:Sunday Morning Worship
DTSTART;TZID=Europe/London:20261025T111500
DTEND;TZID=Europe/London:20261025T124500
DTSTAMP:20260419T164838Z
UID:12168042026-10-25 11:15:00+00:00achurchnearyou
CATEGORIES:
DESCRIPTION:We worship every week in our Churches for a service of Holy Co
 mmunion. All are welcome.\n\nOn the first Sunday of each month though\, bo
 th congregations come together for 'Sunday Special' a joint service for al
 l the family.  These alternate between our two buildings\, so please check
  the other post for dates and locations.
GEO:-1.763353;53.784765
LOCATION:All Saints
URL:https://www.achurchnearyou.com/church/6905/service-and-events/events/1
 216804/
END:VEVENT
BEGIN:VEVENT
SUMMARY:Sunday Morning Worship
DTSTART;TZID=Europe/London:20261108T111500
DTEND;TZID=Europe/London:20261108T124500
DTSTAMP:20260419T164838Z
UID:12168042026-11-08 11:15:00+00:00achurchnearyou
CATEGORIES:
DESCRIPTION:We worship every week in our Churches for a service of Holy Co
 mmunion. All are welcome.\n\nOn the first Sunday of each month though\, bo
 th congregations come together for 'Sunday Special' a joint service for al
 l the family.  These alternate between our two buildings\, so please check
  the other post for dates and locations.
GEO:-1.763353;53.784765
LOCATION:All Saints
URL:https://www.achurchnearyou.com/church/6905/service-and-events/events/1
 216804/
END:VEVENT
BEGIN:VEVENT
SUMMARY:Sunday Morning Worship
DTSTART;TZID=Europe/London:20261115T111500
DTEND;TZID=Europe/London:20261115T124500
DTSTAMP:20260419T164838Z
UID:12168042026-11-15 11:15:00+00:00achurchnearyou
CATEGORIES:
DESCRIPTION:We worship every week in our Churches for a service of Holy Co
 mmunion. All are welcome.\n\nOn the first Sunday of each month though\, bo
 th congregations come together for 'Sunday Special' a joint service for al
 l the family.  These alternate between our two buildings\, so please check
  the other post for dates and locations.
GEO:-1.763353;53.784765
LOCATION:All Saints
URL:https://www.achurchnearyou.com/church/6905/service-and-events/events/1
 216804/
END:VEVENT
BEGIN:VEVENT
SUMMARY:Sunday Morning Worship
DTSTART;TZID=Europe/London:20261122T111500
DTEND;TZID=Europe/London:20261122T124500
DTSTAMP:20260419T164838Z
UID:12168042026-11-22 11:15:00+00:00achurchnearyou
CATEGORIES:
DESCRIPTION:We worship every week in our Churches for a service of Holy Co
 mmunion. All are welcome.\n\nOn the first Sunday of each month though\, bo
 th congregations come together for 'Sunday Special' a joint service for al
 l the family.  These alternate between our two buildings\, so please check
  the other post for dates and locations.
GEO:-1.763353;53.784765
LOCATION:All Saints
URL:https://www.achurchnearyou.com/church/6905/service-and-events/events/1
 216804/
END:VEVENT
BEGIN:VEVENT
SUMMARY:Sunday Morning Worship
DTSTART;TZID=Europe/London:20261129T111500
DTEND;TZID=Europe/London:20261129T124500
DTSTAMP:20260419T164838Z
UID:12168042026-11-29 11:15:00+00:00achurchnearyou
CATEGORIES:
DESCRIPTION:We worship every week in our Churches for a service of Holy Co
 mmunion. All are welcome.\n\nOn the first Sunday of each month though\, bo
 th congregations come together for 'Sunday Special' a joint service for al
 l the family.  These alternate between our two buildings\, so please check
  the other post for dates and locations.
GEO:-1.763353;53.784765
LOCATION:All Saints
URL:https://www.achurchnearyou.com/church/6905/service-and-events/events/1
 216804/
END:VEVENT
BEGIN:VEVENT
SUMMARY:Sunday Morning Worship
DTSTART;TZID=Europe/London:20261213T111500
DTEND;TZID=Europe/London:20261213T124500
DTSTAMP:20260419T164838Z
UID:12168042026-12-13 11:15:00+00:00achurchnearyou
CATEGORIES:
DESCRIPTION:We worship every week in our Churches for a service of Holy Co
 mmunion. All are welcome.\n\nOn the first Sunday of each month though\, bo
 th congregations come together for 'Sunday Special' a joint service for al
 l the family.  These alternate between our two buildings\, so please check
  the other post for dates and locations.
GEO:-1.763353;53.784765
LOCATION:All Saints
URL:https://www.achurchnearyou.com/church/6905/service-and-events/events/1
 216804/
END:VEVENT
BEGIN:VEVENT
SUMMARY:Sunday Morning Worship
DTSTART;TZID=Europe/London:20261220T111500
DTEND;TZID=Europe/London:20261220T124500
DTSTAMP:20260419T164838Z
UID:12168042026-12-20 11:15:00+00:00achurchnearyou
CATEGORIES:
DESCRIPTION:We worship every week in our Churches for a service of Holy Co
 mmunion. All are welcome.\n\nOn the first Sunday of each month though\, bo
 th congregations come together for 'Sunday Special' a joint service for al
 l the family.  These alternate between our two buildings\, so please check
  the other post for dates and locations.
GEO:-1.763353;53.784765
LOCATION:All Saints
URL:https://www.achurchnearyou.com/church/6905/service-and-events/events/1
 216804/
END:VEVENT
BEGIN:VEVENT
SUMMARY:Sunday Morning Worship
DTSTART;TZID=Europe/London:20261227T111500
DTEND;TZID=Europe/London:20261227T124500
DTSTAMP:20260419T164838Z
UID:12168042026-12-27 11:15:00+00:00achurchnearyou
CATEGORIES:
DESCRIPTION:We worship every week in our Churches for a service of Holy Co
 mmunion. All are welcome.\n\nOn the first Sunday of each month though\, bo
 th congregations come together for 'Sunday Special' a joint service for al
 l the family.  These alternate between our two buildings\, so please check
  the other post for dates and locations.
GEO:-1.763353;53.784765
LOCATION:All Saints
URL:https://www.achurchnearyou.com/church/6905/service-and-events/events/1
 216804/
END:VEVENT
BEGIN:VEVENT
SUMMARY:Sunday Morning Worship
DTSTART;TZID=Europe/London:20270110T111500
DTEND;TZID=Europe/London:20270110T124500
DTSTAMP:20260419T164838Z
UID:12168042027-01-10 11:15:00+00:00achurchnearyou
CATEGORIES:
DESCRIPTION:We worship every week in our Churches for a service of Holy Co
 mmunion. All are welcome.\n\nOn the first Sunday of each month though\, bo
 th congregations come together for 'Sunday Special' a joint service for al
 l the family.  These alternate between our two buildings\, so please check
  the other post for dates and locations.
GEO:-1.763353;53.784765
LOCATION:All Saints
URL:https://www.achurchnearyou.com/church/6905/service-and-events/events/1
 216804/
END:VEVENT
BEGIN:VEVENT
SUMMARY:Sunday Morning Worship
DTSTART;TZID=Europe/London:20270117T111500
DTEND;TZID=Europe/London:20270117T124500
DTSTAMP:20260419T164838Z
UID:12168042027-01-17 11:15:00+00:00achurchnearyou
CATEGORIES:
DESCRIPTION:We worship every week in our Churches for a service of Holy Co
 mmunion. All are welcome.\n\nOn the first Sunday of each month though\, bo
 th congregations come together for 'Sunday Special' a joint service for al
 l the family.  These alternate between our two buildings\, so please check
  the other post for dates and locations.
GEO:-1.763353;53.784765
LOCATION:All Saints
URL:https://www.achurchnearyou.com/church/6905/service-and-events/events/1
 216804/
END:VEVENT
BEGIN:VEVENT
SUMMARY:Sunday Morning Worship
DTSTART;TZID=Europe/London:20270124T111500
DTEND;TZID=Europe/London:20270124T124500
DTSTAMP:20260419T164838Z
UID:12168042027-01-24 11:15:00+00:00achurchnearyou
CATEGORIES:
DESCRIPTION:We worship every week in our Churches for a service of Holy Co
 mmunion. All are welcome.\n\nOn the first Sunday of each month though\, bo
 th congregations come together for 'Sunday Special' a joint service for al
 l the family.  These alternate between our two buildings\, so please check
  the other post for dates and locations.
GEO:-1.763353;53.784765
LOCATION:All Saints
URL:https://www.achurchnearyou.com/church/6905/service-and-events/events/1
 216804/
END:VEVENT
BEGIN:VEVENT
SUMMARY:Sunday Morning Worship
DTSTART;TZID=Europe/London:20270131T111500
DTEND;TZID=Europe/London:20270131T124500
DTSTAMP:20260419T164838Z
UID:12168042027-01-31 11:15:00+00:00achurchnearyou
CATEGORIES:
DESCRIPTION:We worship every week in our Churches for a service of Holy Co
 mmunion. All are welcome.\n\nOn the first Sunday of each month though\, bo
 th congregations come together for 'Sunday Special' a joint service for al
 l the family.  These alternate between our two buildings\, so please check
  the other post for dates and locations.
GEO:-1.763353;53.784765
LOCATION:All Saints
URL:https://www.achurchnearyou.com/church/6905/service-and-events/events/1
 216804/
END:VEVENT
BEGIN:VEVENT
SUMMARY:Sunday Morning Worship
DTSTART;TZID=Europe/London:20270214T111500
DTEND;TZID=Europe/London:20270214T124500
DTSTAMP:20260419T164838Z
UID:12168042027-02-14 11:15:00+00:00achurchnearyou
CATEGORIES:
DESCRIPTION:We worship every week in our Churches for a service of Holy Co
 mmunion. All are welcome.\n\nOn the first Sunday of each month though\, bo
 th congregations come together for 'Sunday Special' a joint service for al
 l the family.  These alternate between our two buildings\, so please check
  the other post for dates and locations.
GEO:-1.763353;53.784765
LOCATION:All Saints
URL:https://www.achurchnearyou.com/church/6905/service-and-events/events/1
 216804/
END:VEVENT
BEGIN:VEVENT
SUMMARY:Sunday Morning Worship
DTSTART;TZID=Europe/London:20270221T111500
DTEND;TZID=Europe/London:20270221T124500
DTSTAMP:20260419T164838Z
UID:12168042027-02-21 11:15:00+00:00achurchnearyou
CATEGORIES:
DESCRIPTION:We worship every week in our Churches for a service of Holy Co
 mmunion. All are welcome.\n\nOn the first Sunday of each month though\, bo
 th congregations come together for 'Sunday Special' a joint service for al
 l the family.  These alternate between our two buildings\, so please check
  the other post for dates and locations.
GEO:-1.763353;53.784765
LOCATION:All Saints
URL:https://www.achurchnearyou.com/church/6905/service-and-events/events/1
 216804/
END:VEVENT
BEGIN:VEVENT
SUMMARY:Sunday Morning Worship
DTSTART;TZID=Europe/London:20270228T111500
DTEND;TZID=Europe/London:20270228T124500
DTSTAMP:20260419T164838Z
UID:12168042027-02-28 11:15:00+00:00achurchnearyou
CATEGORIES:
DESCRIPTION:We worship every week in our Churches for a service of Holy Co
 mmunion. All are welcome.\n\nOn the first Sunday of each month though\, bo
 th congregations come together for 'Sunday Special' a joint service for al
 l the family.  These alternate between our two buildings\, so please check
  the other post for dates and locations.
GEO:-1.763353;53.784765
LOCATION:All Saints
URL:https://www.achurchnearyou.com/church/6905/service-and-events/events/1
 216804/
END:VEVENT
BEGIN:VEVENT
SUMMARY:Sunday Morning Worship
DTSTART;TZID=Europe/London:20270314T111500
DTEND;TZID=Europe/London:20270314T124500
DTSTAMP:20260419T164838Z
UID:12168042027-03-14 11:15:00+00:00achurchnearyou
CATEGORIES:
DESCRIPTION:We worship every week in our Churches for a service of Holy Co
 mmunion. All are welcome.\n\nOn the first Sunday of each month though\, bo
 th congregations come together for 'Sunday Special' a joint service for al
 l the family.  These alternate between our two buildings\, so please check
  the other post for dates and locations.
GEO:-1.763353;53.784765
LOCATION:All Saints
URL:https://www.achurchnearyou.com/church/6905/service-and-events/events/1
 216804/
END:VEVENT
BEGIN:VEVENT
SUMMARY:Sunday Morning Worship
DTSTART;TZID=Europe/London:20270321T111500
DTEND;TZID=Europe/London:20270321T124500
DTSTAMP:20260419T164838Z
UID:12168042027-03-21 11:15:00+00:00achurchnearyou
CATEGORIES:
DESCRIPTION:We worship every week in our Churches for a service of Holy Co
 mmunion. All are welcome.\n\nOn the first Sunday of each month though\, bo
 th congregations come together for 'Sunday Special' a joint service for al
 l the family.  These alternate between our two buildings\, so please check
  the other post for dates and locations.
GEO:-1.763353;53.784765
LOCATION:All Saints
URL:https://www.achurchnearyou.com/church/6905/service-and-events/events/1
 216804/
END:VEVENT
BEGIN:VEVENT
SUMMARY:Sunday Morning Worship
DTSTART;TZID=Europe/London:20270328T111500
DTEND;TZID=Europe/London:20270328T124500
DTSTAMP:20260419T164838Z
UID:12168042027-03-28 11:15:00+01:00achurchnearyou
CATEGORIES:
DESCRIPTION:We worship every week in our Churches for a service of Holy Co
 mmunion. All are welcome.\n\nOn the first Sunday of each month though\, bo
 th congregations come together for 'Sunday Special' a joint service for al
 l the family.  These alternate between our two buildings\, so please check
  the other post for dates and locations.
GEO:-1.763353;53.784765
LOCATION:All Saints
URL:https://www.achurchnearyou.com/church/6905/service-and-events/events/1
 216804/
END:VEVENT
BEGIN:VEVENT
SUMMARY:Sunday Morning Worship
DTSTART;TZID=Europe/London:20270411T111500
DTEND;TZID=Europe/London:20270411T124500
DTSTAMP:20260419T164838Z
UID:12168042027-04-11 11:15:00+01:00achurchnearyou
CATEGORIES:
DESCRIPTION:We worship every week in our Churches for a service of Holy Co
 mmunion. All are welcome.\n\nOn the first Sunday of each month though\, bo
 th congregations come together for 'Sunday Special' a joint service for al
 l the family.  These alternate between our two buildings\, so please check
  the other post for dates and locations.
GEO:-1.763353;53.784765
LOCATION:All Saints
URL:https://www.achurchnearyou.com/church/6905/service-and-events/events/1
 216804/
END:VEVENT
BEGIN:VEVENT
SUMMARY:Sunday Morning Worship
DTSTART;TZID=Europe/London:20270418T111500
DTEND;TZID=Europe/London:20270418T124500
DTSTAMP:20260419T164838Z
UID:12168042027-04-18 11:15:00+01:00achurchnearyou
CATEGORIES:
DESCRIPTION:We worship every week in our Churches for a service of Holy Co
 mmunion. All are welcome.\n\nOn the first Sunday of each month though\, bo
 th congregations come together for 'Sunday Special' a joint service for al
 l the family.  These alternate between our two buildings\, so please check
  the other post for dates and locations.
GEO:-1.763353;53.784765
LOCATION:All Saints
URL:https://www.achurchnearyou.com/church/6905/service-and-events/events/1
 216804/
END:VEVENT
END:VCALENDAR
