BEGIN:VCALENDAR
VERSION:2.0
PRODID:-//achurchnearyou.com//eventfeed//EN
CALSCALE:GREGORIAN
METHOD:PUBLISH
X-WR-TIMEZONE:UTC
BEGIN:VEVENT
SUMMARY:Service of the Word
DTSTART;TZID=Europe/London:20260510T093000
DTEND;TZID=Europe/London:20260510T102000
DTSTAMP:20260423T040650Z
UID:3671162026-05-10 09:30:00+01:00achurchnearyou
CATEGORIES:
DESCRIPTION:
GEO:-2.43389;53.846109
LOCATION:All Hallows Church\, Mitton
URL:https://www.achurchnearyou.com/church/6913/service-and-events/events/3
 67116/
END:VEVENT
BEGIN:VEVENT
SUMMARY:Service of the Word
DTSTART;TZID=Europe/London:20260614T093000
DTEND;TZID=Europe/London:20260614T102000
DTSTAMP:20260423T040650Z
UID:3671162026-06-14 09:30:00+01:00achurchnearyou
CATEGORIES:
DESCRIPTION:
GEO:-2.43389;53.846109
LOCATION:All Hallows Church\, Mitton
URL:https://www.achurchnearyou.com/church/6913/service-and-events/events/3
 67116/
END:VEVENT
BEGIN:VEVENT
SUMMARY:Service of the Word
DTSTART;TZID=Europe/London:20260712T093000
DTEND;TZID=Europe/London:20260712T102000
DTSTAMP:20260423T040650Z
UID:3671162026-07-12 09:30:00+01:00achurchnearyou
CATEGORIES:
DESCRIPTION:
GEO:-2.43389;53.846109
LOCATION:All Hallows Church\, Mitton
URL:https://www.achurchnearyou.com/church/6913/service-and-events/events/3
 67116/
END:VEVENT
BEGIN:VEVENT
SUMMARY:Service of the Word
DTSTART;TZID=Europe/London:20260809T093000
DTEND;TZID=Europe/London:20260809T102000
DTSTAMP:20260423T040650Z
UID:3671162026-08-09 09:30:00+01:00achurchnearyou
CATEGORIES:
DESCRIPTION:
GEO:-2.43389;53.846109
LOCATION:All Hallows Church\, Mitton
URL:https://www.achurchnearyou.com/church/6913/service-and-events/events/3
 67116/
END:VEVENT
BEGIN:VEVENT
SUMMARY:Service of the Word
DTSTART;TZID=Europe/London:20260913T093000
DTEND;TZID=Europe/London:20260913T102000
DTSTAMP:20260423T040650Z
UID:3671162026-09-13 09:30:00+01:00achurchnearyou
CATEGORIES:
DESCRIPTION:
GEO:-2.43389;53.846109
LOCATION:All Hallows Church\, Mitton
URL:https://www.achurchnearyou.com/church/6913/service-and-events/events/3
 67116/
END:VEVENT
BEGIN:VEVENT
SUMMARY:Service of the Word
DTSTART;TZID=Europe/London:20261011T093000
DTEND;TZID=Europe/London:20261011T102000
DTSTAMP:20260423T040650Z
UID:3671162026-10-11 09:30:00+01:00achurchnearyou
CATEGORIES:
DESCRIPTION:
GEO:-2.43389;53.846109
LOCATION:All Hallows Church\, Mitton
URL:https://www.achurchnearyou.com/church/6913/service-and-events/events/3
 67116/
END:VEVENT
BEGIN:VEVENT
SUMMARY:Service of the Word
DTSTART;TZID=Europe/London:20261108T093000
DTEND;TZID=Europe/London:20261108T102000
DTSTAMP:20260423T040650Z
UID:3671162026-11-08 09:30:00+00:00achurchnearyou
CATEGORIES:
DESCRIPTION:
GEO:-2.43389;53.846109
LOCATION:All Hallows Church\, Mitton
URL:https://www.achurchnearyou.com/church/6913/service-and-events/events/3
 67116/
END:VEVENT
BEGIN:VEVENT
SUMMARY:Service of the Word
DTSTART;TZID=Europe/London:20261213T093000
DTEND;TZID=Europe/London:20261213T102000
DTSTAMP:20260423T040650Z
UID:3671162026-12-13 09:30:00+00:00achurchnearyou
CATEGORIES:
DESCRIPTION:
GEO:-2.43389;53.846109
LOCATION:All Hallows Church\, Mitton
URL:https://www.achurchnearyou.com/church/6913/service-and-events/events/3
 67116/
END:VEVENT
BEGIN:VEVENT
SUMMARY:Service of the Word
DTSTART;TZID=Europe/London:20270110T093000
DTEND;TZID=Europe/London:20270110T102000
DTSTAMP:20260423T040650Z
UID:3671162027-01-10 09:30:00+00:00achurchnearyou
CATEGORIES:
DESCRIPTION:
GEO:-2.43389;53.846109
LOCATION:All Hallows Church\, Mitton
URL:https://www.achurchnearyou.com/church/6913/service-and-events/events/3
 67116/
END:VEVENT
BEGIN:VEVENT
SUMMARY:Service of the Word
DTSTART;TZID=Europe/London:20270214T093000
DTEND;TZID=Europe/London:20270214T102000
DTSTAMP:20260423T040650Z
UID:3671162027-02-14 09:30:00+00:00achurchnearyou
CATEGORIES:
DESCRIPTION:
GEO:-2.43389;53.846109
LOCATION:All Hallows Church\, Mitton
URL:https://www.achurchnearyou.com/church/6913/service-and-events/events/3
 67116/
END:VEVENT
BEGIN:VEVENT
SUMMARY:Service of the Word
DTSTART;TZID=Europe/London:20270314T093000
DTEND;TZID=Europe/London:20270314T102000
DTSTAMP:20260423T040650Z
UID:3671162027-03-14 09:30:00+00:00achurchnearyou
CATEGORIES:
DESCRIPTION:
GEO:-2.43389;53.846109
LOCATION:All Hallows Church\, Mitton
URL:https://www.achurchnearyou.com/church/6913/service-and-events/events/3
 67116/
END:VEVENT
BEGIN:VEVENT
SUMMARY:Service of the Word
DTSTART;TZID=Europe/London:20270411T093000
DTEND;TZID=Europe/London:20270411T102000
DTSTAMP:20260423T040650Z
UID:3671162027-04-11 09:30:00+01:00achurchnearyou
CATEGORIES:
DESCRIPTION:
GEO:-2.43389;53.846109
LOCATION:All Hallows Church\, Mitton
URL:https://www.achurchnearyou.com/church/6913/service-and-events/events/3
 67116/
END:VEVENT
END:VCALENDAR
