BEGIN:VCALENDAR
VERSION:2.0
PRODID:-//achurchnearyou.com//eventfeed//EN
CALSCALE:GREGORIAN
METHOD:PUBLISH
X-WR-TIMEZONE:UTC
BEGIN:VEVENT
SUMMARY:A Service of Morning Prayer
DTSTART:20251228T094500Z
DTEND:20251228T103000Z
DTSTAMP:20260424T040804Z
UID:12565122025-12-28 09:45:00+00:00achurchnearyou
CATEGORIES:
DESCRIPTION:The first Sunday after Christmas is marked with a service of M
 orning Prayer.
GEO:-2.44332;53.964569
LOCATION:Slaidburn: St Andrew
URL:https://www.achurchnearyou.com/church/6925/service-and-events/events/1
 256512/
END:VEVENT
END:VCALENDAR
