BEGIN:VCALENDAR
VERSION:2.0
PRODID:-//achurchnearyou.com//eventfeed//EN
CALSCALE:GREGORIAN
METHOD:PUBLISH
X-WR-TIMEZONE:UTC
BEGIN:VEVENT
SUMMARY:Midweek Eucharist Service
DTSTART;TZID=Europe/London:20260506T120000
DTEND;TZID=Europe/London:20260506T130000
DTSTAMP:20260423T041735Z
UID:12793932026-05-06 12:00:00+01:00achurchnearyou
CATEGORIES:
DESCRIPTION:A short monthly service of Holy Communion followed by lunch in
  the Thornbury Centre cafe. All are invited to join us.
GEO:-1.713636;53.800194
LOCATION:St Margaret Thornbury
URL:https://www.achurchnearyou.com/church/6929/service-and-events/events/1
 279393/
END:VEVENT
BEGIN:VEVENT
SUMMARY:Midweek Eucharist Service
DTSTART;TZID=Europe/London:20260603T120000
DTEND;TZID=Europe/London:20260603T130000
DTSTAMP:20260423T041735Z
UID:12793932026-06-03 12:00:00+01:00achurchnearyou
CATEGORIES:
DESCRIPTION:A short monthly service of Holy Communion followed by lunch in
  the Thornbury Centre cafe. All are invited to join us.
GEO:-1.713636;53.800194
LOCATION:St Margaret Thornbury
URL:https://www.achurchnearyou.com/church/6929/service-and-events/events/1
 279393/
END:VEVENT
BEGIN:VEVENT
SUMMARY:Midweek Eucharist Service
DTSTART;TZID=Europe/London:20260701T120000
DTEND;TZID=Europe/London:20260701T130000
DTSTAMP:20260423T041735Z
UID:12793932026-07-01 12:00:00+01:00achurchnearyou
CATEGORIES:
DESCRIPTION:A short monthly service of Holy Communion followed by lunch in
  the Thornbury Centre cafe. All are invited to join us.
GEO:-1.713636;53.800194
LOCATION:St Margaret Thornbury
URL:https://www.achurchnearyou.com/church/6929/service-and-events/events/1
 279393/
END:VEVENT
BEGIN:VEVENT
SUMMARY:Midweek Eucharist Service
DTSTART;TZID=Europe/London:20260805T120000
DTEND;TZID=Europe/London:20260805T130000
DTSTAMP:20260423T041735Z
UID:12793932026-08-05 12:00:00+01:00achurchnearyou
CATEGORIES:
DESCRIPTION:A short monthly service of Holy Communion followed by lunch in
  the Thornbury Centre cafe. All are invited to join us.
GEO:-1.713636;53.800194
LOCATION:St Margaret Thornbury
URL:https://www.achurchnearyou.com/church/6929/service-and-events/events/1
 279393/
END:VEVENT
BEGIN:VEVENT
SUMMARY:Midweek Eucharist Service
DTSTART;TZID=Europe/London:20260902T120000
DTEND;TZID=Europe/London:20260902T130000
DTSTAMP:20260423T041735Z
UID:12793932026-09-02 12:00:00+01:00achurchnearyou
CATEGORIES:
DESCRIPTION:A short monthly service of Holy Communion followed by lunch in
  the Thornbury Centre cafe. All are invited to join us.
GEO:-1.713636;53.800194
LOCATION:St Margaret Thornbury
URL:https://www.achurchnearyou.com/church/6929/service-and-events/events/1
 279393/
END:VEVENT
BEGIN:VEVENT
SUMMARY:Midweek Eucharist Service
DTSTART;TZID=Europe/London:20261007T120000
DTEND;TZID=Europe/London:20261007T130000
DTSTAMP:20260423T041735Z
UID:12793932026-10-07 12:00:00+01:00achurchnearyou
CATEGORIES:
DESCRIPTION:A short monthly service of Holy Communion followed by lunch in
  the Thornbury Centre cafe. All are invited to join us.
GEO:-1.713636;53.800194
LOCATION:St Margaret Thornbury
URL:https://www.achurchnearyou.com/church/6929/service-and-events/events/1
 279393/
END:VEVENT
BEGIN:VEVENT
SUMMARY:Midweek Eucharist Service
DTSTART;TZID=Europe/London:20261104T120000
DTEND;TZID=Europe/London:20261104T130000
DTSTAMP:20260423T041735Z
UID:12793932026-11-04 12:00:00+00:00achurchnearyou
CATEGORIES:
DESCRIPTION:A short monthly service of Holy Communion followed by lunch in
  the Thornbury Centre cafe. All are invited to join us.
GEO:-1.713636;53.800194
LOCATION:St Margaret Thornbury
URL:https://www.achurchnearyou.com/church/6929/service-and-events/events/1
 279393/
END:VEVENT
BEGIN:VEVENT
SUMMARY:Midweek Eucharist Service
DTSTART;TZID=Europe/London:20261202T120000
DTEND;TZID=Europe/London:20261202T130000
DTSTAMP:20260423T041735Z
UID:12793932026-12-02 12:00:00+00:00achurchnearyou
CATEGORIES:
DESCRIPTION:A short monthly service of Holy Communion followed by lunch in
  the Thornbury Centre cafe. All are invited to join us.
GEO:-1.713636;53.800194
LOCATION:St Margaret Thornbury
URL:https://www.achurchnearyou.com/church/6929/service-and-events/events/1
 279393/
END:VEVENT
BEGIN:VEVENT
SUMMARY:Midweek Eucharist Service
DTSTART;TZID=Europe/London:20270106T120000
DTEND;TZID=Europe/London:20270106T130000
DTSTAMP:20260423T041735Z
UID:12793932027-01-06 12:00:00+00:00achurchnearyou
CATEGORIES:
DESCRIPTION:A short monthly service of Holy Communion followed by lunch in
  the Thornbury Centre cafe. All are invited to join us.
GEO:-1.713636;53.800194
LOCATION:St Margaret Thornbury
URL:https://www.achurchnearyou.com/church/6929/service-and-events/events/1
 279393/
END:VEVENT
BEGIN:VEVENT
SUMMARY:Midweek Eucharist Service
DTSTART;TZID=Europe/London:20270203T120000
DTEND;TZID=Europe/London:20270203T130000
DTSTAMP:20260423T041735Z
UID:12793932027-02-03 12:00:00+00:00achurchnearyou
CATEGORIES:
DESCRIPTION:A short monthly service of Holy Communion followed by lunch in
  the Thornbury Centre cafe. All are invited to join us.
GEO:-1.713636;53.800194
LOCATION:St Margaret Thornbury
URL:https://www.achurchnearyou.com/church/6929/service-and-events/events/1
 279393/
END:VEVENT
BEGIN:VEVENT
SUMMARY:Midweek Eucharist Service
DTSTART;TZID=Europe/London:20270303T120000
DTEND;TZID=Europe/London:20270303T130000
DTSTAMP:20260423T041735Z
UID:12793932027-03-03 12:00:00+00:00achurchnearyou
CATEGORIES:
DESCRIPTION:A short monthly service of Holy Communion followed by lunch in
  the Thornbury Centre cafe. All are invited to join us.
GEO:-1.713636;53.800194
LOCATION:St Margaret Thornbury
URL:https://www.achurchnearyou.com/church/6929/service-and-events/events/1
 279393/
END:VEVENT
BEGIN:VEVENT
SUMMARY:Midweek Eucharist Service
DTSTART;TZID=Europe/London:20270407T120000
DTEND;TZID=Europe/London:20270407T130000
DTSTAMP:20260423T041735Z
UID:12793932027-04-07 12:00:00+01:00achurchnearyou
CATEGORIES:
DESCRIPTION:A short monthly service of Holy Communion followed by lunch in
  the Thornbury Centre cafe. All are invited to join us.
GEO:-1.713636;53.800194
LOCATION:St Margaret Thornbury
URL:https://www.achurchnearyou.com/church/6929/service-and-events/events/1
 279393/
END:VEVENT
END:VCALENDAR
