BEGIN:VCALENDAR
VERSION:2.0
PRODID:-//achurchnearyou.com//eventfeed//EN
CALSCALE:GREGORIAN
METHOD:PUBLISH
X-WR-TIMEZONE:UTC
BEGIN:VEVENT
SUMMARY:Refreshments at Dunsop Bridge
DTSTART:20250601T110000Z
DTEND:20250601T150000Z
DTSTAMP:20260424T211127Z
UID:12020832025-06-01 11:00:00+00:00achurchnearyou
CATEGORIES:
DESCRIPTION:The Parish of Hodder Valley serves light lunches and refreshme
 nts at Dunsop Bridge Village Hall raising funds for the Parish. Do drop in
  for a bite to eat!
LOCATION:Dunsop Bridge Village Hall
URL:https://www.achurchnearyou.com/church/6934/service-and-events/events/1
 202083/
END:VEVENT
END:VCALENDAR
