BEGIN:VCALENDAR
VERSION:2.0
PRODID:-//achurchnearyou.com//eventfeed//EN
CALSCALE:GREGORIAN
METHOD:PUBLISH
X-WR-TIMEZONE:UTC
BEGIN:VEVENT
SUMMARY:A Service of Reflection for Good Friday
DTSTART:20260403T110000Z
DTEND:20260403T114500Z
DTSTAMP:20260423T074334Z
UID:13029252026-04-03 11:00:00+00:00achurchnearyou
CATEGORIES:
DESCRIPTION:A said Service of Reflection for Good Friday
GEO:-2.353732;54.000304
LOCATION:St Bartholomew's\, Tosside
URL:https://www.achurchnearyou.com/church/6934/service-and-events/events/1
 302925/
END:VEVENT
END:VCALENDAR
