BEGIN:VCALENDAR
VERSION:2.0
PRODID:-//achurchnearyou.com//eventfeed//EN
CALSCALE:GREGORIAN
METHOD:PUBLISH
X-WR-TIMEZONE:UTC
BEGIN:VEVENT
SUMMARY:Eucharist
DTSTART;TZID=Europe/London:20260405T091500
DTEND;TZID=Europe/London:20260405T100000
DTSTAMP:20260424T142053Z
UID:6684721775376900.0achurchnearyou
CATEGORIES:
DESCRIPTION:A traditional eucharist
GEO:-2.391855;53.896398
LOCATION:West Bradford: St Catherine
URL:https://www.achurchnearyou.com/church/6938/service-and-events/events/6
 68472/
END:VEVENT
BEGIN:VEVENT
SUMMARY:Family Service
DTSTART;TZID=Europe/London:20260412T103000
DTEND;TZID=Europe/London:20260412T111500
DTSTAMP:20260424T142053Z
UID:6684741775986200.0achurchnearyou
CATEGORIES:
DESCRIPTION:A service for all the family and all ages
GEO:-2.391855;53.896398
LOCATION:West Bradford: St Catherine
URL:https://www.achurchnearyou.com/church/6938/service-and-events/events/6
 68474/
END:VEVENT
BEGIN:VEVENT
SUMMARY:Eucharist
DTSTART;TZID=Europe/London:20260419T091500
DTEND;TZID=Europe/London:20260419T100000
DTSTAMP:20260424T142053Z
UID:6684721776586500.0achurchnearyou
CATEGORIES:
DESCRIPTION:A traditional eucharist
GEO:-2.391855;53.896398
LOCATION:West Bradford: St Catherine
URL:https://www.achurchnearyou.com/church/6938/service-and-events/events/6
 68472/
END:VEVENT
BEGIN:VEVENT
SUMMARY:Eucharist
DTSTART;TZID=Europe/London:20260426T091500
DTEND;TZID=Europe/London:20260426T100000
DTSTAMP:20260424T142053Z
UID:6684721777191300.0achurchnearyou
CATEGORIES:
DESCRIPTION:A traditional eucharist
GEO:-2.391855;53.896398
LOCATION:West Bradford: St Catherine
URL:https://www.achurchnearyou.com/church/6938/service-and-events/events/6
 68472/
END:VEVENT
BEGIN:VEVENT
SUMMARY:Eucharist
DTSTART;TZID=Europe/London:20260503T091500
DTEND;TZID=Europe/London:20260503T100000
DTSTAMP:20260424T142053Z
UID:6684721777796100.0achurchnearyou
CATEGORIES:
DESCRIPTION:A traditional eucharist
GEO:-2.391855;53.896398
LOCATION:West Bradford: St Catherine
URL:https://www.achurchnearyou.com/church/6938/service-and-events/events/6
 68472/
END:VEVENT
BEGIN:VEVENT
SUMMARY:Family Service
DTSTART;TZID=Europe/London:20260510T103000
DTEND;TZID=Europe/London:20260510T111500
DTSTAMP:20260424T142053Z
UID:6684741778405400.0achurchnearyou
CATEGORIES:
DESCRIPTION:A service for all the family and all ages
GEO:-2.391855;53.896398
LOCATION:West Bradford: St Catherine
URL:https://www.achurchnearyou.com/church/6938/service-and-events/events/6
 68474/
END:VEVENT
BEGIN:VEVENT
SUMMARY:Eucharist
DTSTART;TZID=Europe/London:20260517T091500
DTEND;TZID=Europe/London:20260517T100000
DTSTAMP:20260424T142053Z
UID:6684721779005700.0achurchnearyou
CATEGORIES:
DESCRIPTION:A traditional eucharist
GEO:-2.391855;53.896398
LOCATION:West Bradford: St Catherine
URL:https://www.achurchnearyou.com/church/6938/service-and-events/events/6
 68472/
END:VEVENT
BEGIN:VEVENT
SUMMARY:Eucharist
DTSTART;TZID=Europe/London:20260524T091500
DTEND;TZID=Europe/London:20260524T100000
DTSTAMP:20260424T142053Z
UID:6684721779610500.0achurchnearyou
CATEGORIES:
DESCRIPTION:A traditional eucharist
GEO:-2.391855;53.896398
LOCATION:West Bradford: St Catherine
URL:https://www.achurchnearyou.com/church/6938/service-and-events/events/6
 68472/
END:VEVENT
BEGIN:VEVENT
SUMMARY:Eucharist
DTSTART;TZID=Europe/London:20260531T091500
DTEND;TZID=Europe/London:20260531T100000
DTSTAMP:20260424T142053Z
UID:6684721780215300.0achurchnearyou
CATEGORIES:
DESCRIPTION:A traditional eucharist
GEO:-2.391855;53.896398
LOCATION:West Bradford: St Catherine
URL:https://www.achurchnearyou.com/church/6938/service-and-events/events/6
 68472/
END:VEVENT
BEGIN:VEVENT
SUMMARY:Eucharist
DTSTART;TZID=Europe/London:20260607T091500
DTEND;TZID=Europe/London:20260607T100000
DTSTAMP:20260424T142053Z
UID:6684721780820100.0achurchnearyou
CATEGORIES:
DESCRIPTION:A traditional eucharist
GEO:-2.391855;53.896398
LOCATION:West Bradford: St Catherine
URL:https://www.achurchnearyou.com/church/6938/service-and-events/events/6
 68472/
END:VEVENT
BEGIN:VEVENT
SUMMARY:Family Service
DTSTART;TZID=Europe/London:20260614T103000
DTEND;TZID=Europe/London:20260614T111500
DTSTAMP:20260424T142053Z
UID:6684741781429400.0achurchnearyou
CATEGORIES:
DESCRIPTION:A service for all the family and all ages
GEO:-2.391855;53.896398
LOCATION:West Bradford: St Catherine
URL:https://www.achurchnearyou.com/church/6938/service-and-events/events/6
 68474/
END:VEVENT
BEGIN:VEVENT
SUMMARY:Eucharist
DTSTART;TZID=Europe/London:20260621T091500
DTEND;TZID=Europe/London:20260621T100000
DTSTAMP:20260424T142053Z
UID:6684721782029700.0achurchnearyou
CATEGORIES:
DESCRIPTION:A traditional eucharist
GEO:-2.391855;53.896398
LOCATION:West Bradford: St Catherine
URL:https://www.achurchnearyou.com/church/6938/service-and-events/events/6
 68472/
END:VEVENT
BEGIN:VEVENT
SUMMARY:Eucharist
DTSTART;TZID=Europe/London:20260628T091500
DTEND;TZID=Europe/London:20260628T100000
DTSTAMP:20260424T142053Z
UID:6684721782634500.0achurchnearyou
CATEGORIES:
DESCRIPTION:A traditional eucharist
GEO:-2.391855;53.896398
LOCATION:West Bradford: St Catherine
URL:https://www.achurchnearyou.com/church/6938/service-and-events/events/6
 68472/
END:VEVENT
BEGIN:VEVENT
SUMMARY:Eucharist
DTSTART;TZID=Europe/London:20260705T091500
DTEND;TZID=Europe/London:20260705T100000
DTSTAMP:20260424T142053Z
UID:6684721783239300.0achurchnearyou
CATEGORIES:
DESCRIPTION:A traditional eucharist
GEO:-2.391855;53.896398
LOCATION:West Bradford: St Catherine
URL:https://www.achurchnearyou.com/church/6938/service-and-events/events/6
 68472/
END:VEVENT
BEGIN:VEVENT
SUMMARY:Family Service
DTSTART;TZID=Europe/London:20260712T103000
DTEND;TZID=Europe/London:20260712T111500
DTSTAMP:20260424T142053Z
UID:6684741783848600.0achurchnearyou
CATEGORIES:
DESCRIPTION:A service for all the family and all ages
GEO:-2.391855;53.896398
LOCATION:West Bradford: St Catherine
URL:https://www.achurchnearyou.com/church/6938/service-and-events/events/6
 68474/
END:VEVENT
BEGIN:VEVENT
SUMMARY:Eucharist
DTSTART;TZID=Europe/London:20260719T091500
DTEND;TZID=Europe/London:20260719T100000
DTSTAMP:20260424T142053Z
UID:6684721784448900.0achurchnearyou
CATEGORIES:
DESCRIPTION:A traditional eucharist
GEO:-2.391855;53.896398
LOCATION:West Bradford: St Catherine
URL:https://www.achurchnearyou.com/church/6938/service-and-events/events/6
 68472/
END:VEVENT
BEGIN:VEVENT
SUMMARY:Eucharist
DTSTART;TZID=Europe/London:20260726T091500
DTEND;TZID=Europe/London:20260726T100000
DTSTAMP:20260424T142053Z
UID:6684721785053700.0achurchnearyou
CATEGORIES:
DESCRIPTION:A traditional eucharist
GEO:-2.391855;53.896398
LOCATION:West Bradford: St Catherine
URL:https://www.achurchnearyou.com/church/6938/service-and-events/events/6
 68472/
END:VEVENT
BEGIN:VEVENT
SUMMARY:Eucharist
DTSTART;TZID=Europe/London:20260802T091500
DTEND;TZID=Europe/London:20260802T100000
DTSTAMP:20260424T142053Z
UID:6684721785658500.0achurchnearyou
CATEGORIES:
DESCRIPTION:A traditional eucharist
GEO:-2.391855;53.896398
LOCATION:West Bradford: St Catherine
URL:https://www.achurchnearyou.com/church/6938/service-and-events/events/6
 68472/
END:VEVENT
BEGIN:VEVENT
SUMMARY:Family Service
DTSTART;TZID=Europe/London:20260809T103000
DTEND;TZID=Europe/London:20260809T111500
DTSTAMP:20260424T142053Z
UID:6684741786267800.0achurchnearyou
CATEGORIES:
DESCRIPTION:A service for all the family and all ages
GEO:-2.391855;53.896398
LOCATION:West Bradford: St Catherine
URL:https://www.achurchnearyou.com/church/6938/service-and-events/events/6
 68474/
END:VEVENT
BEGIN:VEVENT
SUMMARY:Eucharist
DTSTART;TZID=Europe/London:20260816T091500
DTEND;TZID=Europe/London:20260816T100000
DTSTAMP:20260424T142053Z
UID:6684721786868100.0achurchnearyou
CATEGORIES:
DESCRIPTION:A traditional eucharist
GEO:-2.391855;53.896398
LOCATION:West Bradford: St Catherine
URL:https://www.achurchnearyou.com/church/6938/service-and-events/events/6
 68472/
END:VEVENT
BEGIN:VEVENT
SUMMARY:Eucharist
DTSTART;TZID=Europe/London:20260823T091500
DTEND;TZID=Europe/London:20260823T100000
DTSTAMP:20260424T142053Z
UID:6684721787472900.0achurchnearyou
CATEGORIES:
DESCRIPTION:A traditional eucharist
GEO:-2.391855;53.896398
LOCATION:West Bradford: St Catherine
URL:https://www.achurchnearyou.com/church/6938/service-and-events/events/6
 68472/
END:VEVENT
BEGIN:VEVENT
SUMMARY:Eucharist
DTSTART;TZID=Europe/London:20260830T091500
DTEND;TZID=Europe/London:20260830T100000
DTSTAMP:20260424T142053Z
UID:6684721788077700.0achurchnearyou
CATEGORIES:
DESCRIPTION:A traditional eucharist
GEO:-2.391855;53.896398
LOCATION:West Bradford: St Catherine
URL:https://www.achurchnearyou.com/church/6938/service-and-events/events/6
 68472/
END:VEVENT
BEGIN:VEVENT
SUMMARY:Eucharist
DTSTART;TZID=Europe/London:20260906T091500
DTEND;TZID=Europe/London:20260906T100000
DTSTAMP:20260424T142053Z
UID:6684721788682500.0achurchnearyou
CATEGORIES:
DESCRIPTION:A traditional eucharist
GEO:-2.391855;53.896398
LOCATION:West Bradford: St Catherine
URL:https://www.achurchnearyou.com/church/6938/service-and-events/events/6
 68472/
END:VEVENT
BEGIN:VEVENT
SUMMARY:Family Service
DTSTART;TZID=Europe/London:20260913T103000
DTEND;TZID=Europe/London:20260913T111500
DTSTAMP:20260424T142053Z
UID:6684741789291800.0achurchnearyou
CATEGORIES:
DESCRIPTION:A service for all the family and all ages
GEO:-2.391855;53.896398
LOCATION:West Bradford: St Catherine
URL:https://www.achurchnearyou.com/church/6938/service-and-events/events/6
 68474/
END:VEVENT
BEGIN:VEVENT
SUMMARY:Eucharist
DTSTART;TZID=Europe/London:20260920T091500
DTEND;TZID=Europe/London:20260920T100000
DTSTAMP:20260424T142053Z
UID:6684721789892100.0achurchnearyou
CATEGORIES:
DESCRIPTION:A traditional eucharist
GEO:-2.391855;53.896398
LOCATION:West Bradford: St Catherine
URL:https://www.achurchnearyou.com/church/6938/service-and-events/events/6
 68472/
END:VEVENT
BEGIN:VEVENT
SUMMARY:Eucharist
DTSTART;TZID=Europe/London:20260927T091500
DTEND;TZID=Europe/London:20260927T100000
DTSTAMP:20260424T142053Z
UID:6684721790496900.0achurchnearyou
CATEGORIES:
DESCRIPTION:A traditional eucharist
GEO:-2.391855;53.896398
LOCATION:West Bradford: St Catherine
URL:https://www.achurchnearyou.com/church/6938/service-and-events/events/6
 68472/
END:VEVENT
END:VCALENDAR
