BEGIN:VCALENDAR
VERSION:2.0
PRODID:-//achurchnearyou.com//eventfeed//EN
CALSCALE:GREGORIAN
METHOD:PUBLISH
X-WR-TIMEZONE:UTC
BEGIN:VEVENT
SUMMARY:Carol Service
DTSTART:20251221T183000Z
DTEND:20251221T193000Z
DTSTAMP:20260424T040320Z
UID:12605432025-12-21 18:30:00+00:00achurchnearyou
CATEGORIES:
DESCRIPTION:Annual Carol Service of Nine Lessons & Carols
LOCATION:St Anne
URL:https://www.achurchnearyou.com/church/6949/service-and-events/events/1
 260543/
END:VEVENT
END:VCALENDAR
