BEGIN:VCALENDAR
VERSION:2.0
PRODID:-//achurchnearyou.com//eventfeed//EN
CALSCALE:GREGORIAN
METHOD:PUBLISH
X-WR-TIMEZONE:UTC
BEGIN:VEVENT
SUMMARY:Palm Sunday Parish Mass
DTSTART:20260329T093000Z
DTEND:20260329T104500Z
DTSTAMP:20260424T024600Z
UID:2879672026-03-29 09:30:00+00:00achurchnearyou
CATEGORIES:
DESCRIPTION:Traditional ceremony of blessing of palms and\, weather permit
 ting\, outside procession followed by solemn reading of the Passion and Ma
 ss of the day.
GEO:-3.022737;53.756529
LOCATION:St Anne's Parish Church
URL:https://www.achurchnearyou.com/church/6949/service-and-events/events/2
 87967/
END:VEVENT
END:VCALENDAR
