BEGIN:VCALENDAR
VERSION:2.0
PRODID:-//achurchnearyou.com//eventfeed//EN
CALSCALE:GREGORIAN
METHOD:PUBLISH
X-WR-TIMEZONE:UTC
BEGIN:VEVENT
SUMMARY:Holy Saturday Liturgy of the New Fire & First Mass of Easter
DTSTART:20260404T190000Z
DTEND:20260404T203000Z
DTSTAMP:20260423T162029Z
UID:5014632026-04-04 19:00:00+00:00achurchnearyou
CATEGORIES:
DESCRIPTION:Traditional evening liturgy for Easter Eve including reading o
 f the prophesies\, kindling of the new fire\, lighting of the Pashal Candl
 e\, proclamation of the Exultet\, and First Mass of Easter.
GEO:-3.022737;53.756529
LOCATION:St Anne's Parish Church
URL:https://www.achurchnearyou.com/church/6949/service-and-events/events/5
 01463/
END:VEVENT
END:VCALENDAR
