BEGIN:VCALENDAR
VERSION:2.0
PRODID:-//achurchnearyou.com//eventfeed//EN
CALSCALE:GREGORIAN
METHOD:PUBLISH
X-WR-TIMEZONE:UTC
BEGIN:VEVENT
SUMMARY:Good Friday Procession
DTSTART:20260403T120000Z
DTEND:20260403T133000Z
DTSTAMP:20260420T005054Z
UID:12898682026-04-03 12:00:00+00:00achurchnearyou
CATEGORIES:
DESCRIPTION:Walk of Witness with songs and readings from Christ Church Col
 liers Wood to St John the DIvine.
LOCATION:Christ Church Colliers Wood
URL:https://www.achurchnearyou.com/church/704/service-and-events/events/12
 89868/
END:VEVENT
END:VCALENDAR
