BEGIN:VCALENDAR
VERSION:2.0
PRODID:-//achurchnearyou.com//eventfeed//EN
CALSCALE:GREGORIAN
METHOD:PUBLISH
X-WR-TIMEZONE:UTC
BEGIN:VEVENT
SUMMARY:Watch-Night Service at the Turn of the Year
DTSTART:20251231T231500Z
DTEND:20260101T003000Z
DTSTAMP:20260423T182901Z
UID:12743862025-12-31 23:15:00+00:00achurchnearyou
CATEGORIES:
DESCRIPTION:This is an Eucharistic service to celebrate the turn of the ye
 ar\, giving thanks for the year past and welcoming the New Year.
GEO:-0.157722;51.416567
LOCATION:Mitcham\, St Barnabas
URL:https://www.achurchnearyou.com/church/707/service-and-events/events/12
 74386/
END:VEVENT
END:VCALENDAR
